BEGIN:VCALENDAR
VERSION:2.0
PRODID:-//AgendaBulle//https://agendabulle.fr//
BEGIN:VEVENT
SUMMARY:Arpentage autour de textes sur l’adultisme
DTSTART;TZID=Europe/Paris:20260425T150000
DTEND;TZID=Europe/Paris:20260425T170000
DTSTAMP:20260422T224444Z
UID:b241232d516ceedf2573a0efa7d67e3d@agendabulle.fr
DESCRIPTION:📚 Le Collectif Enfantiste 38 vous invite à un arpentage au
 tour de textes sur l’adultisme !\n\nNous nous retrouverons pour lire ens
 emble\, échanger et mieux comprendre ce qu’est l’adultisme et comment
  il traverse nos vies et notre société.\n\n💬 L’arpentage est une ma
 nière collective et conviviale de découvrir un texte : on se le partage\
 , puis on en discute ensemble. Pas besoin de connaître le sujet ou d’av
 oir déjà lu quoi que ce soit !\n\n🤝 Ce sera aussi l’occasion de fai
 re connaissance\, de poser ses questions\, de partager ses expériences et
  de rencontrer d’autres personnes intéressées par les droits et la pla
 ce des enfants dans la société.\n\n🍪 Un goûter sera prévu pour prol
 onger les discussions dans une ambiance chaleureuse.\n\n🙌 Que tu sois d
 éjà engagé·e ou simplement curieux·se de découvrir le sujet : tu es 
 le ou la bienvenu·e !\n\n🔓 Entrée libre\, sans inscription.\nhttp://w
 ww.agendabulle.fr/event/2026/4/25/2455-arpentage-autour-de-textes-sur-ladu
 ltisme\nhttps://www.le-tamis.info/evenement/arpentage-autour-de-textes-sur
 -ladultisme
LOCATION:Le lieu\, 17 rue Abbé Grégoire\, Grenoble\, Grenoble
NAME:Arpentage autour de textes sur l’adultisme
END:VEVENT
END:VCALENDAR
