BEGIN:VCALENDAR
VERSION:2.0
PRODID:-//AgendaBulle//https://agendabulle.fr//
BEGIN:VEVENT
SUMMARY:Portes ouvertes du Jardin partagé "Sans Souci" (avec un jeu de pi
 ste !)
DTSTART;VALUE=DATE:20260425
DTEND;VALUE=DATE:20260426
DTSTAMP:20260422T224444Z
UID:7bdd719ccffea2006b6ec780da68e720@agendabulle.fr
DESCRIPTION:Le Jardin partagé Sans souci (quartier des Eaux Claires) orga
 nise un après-midi Portes ouvertes. Venez découvrir ce beau jardin colle
 ctif !\n\nAu programme : Jeu de piste\, balades\, et rencontre avec l’
 équipe\, et si ça vous plait\, on recrute !\n\nDe 13h à 17h\n\nLe Sans 
 souci 9\, rue Louise Michel 38100 Grenoble\nhttp://www.agendabulle.fr/even
 t/2026/4/25/2454-portes-ouvertes-du-jardin-partage-sans-souci-avec-un-jeu-
 de-piste\nhttps://www.le-tamis.info/evenement/portes-ouvertes-du-jardin-pa
 rtage-sans-souci-avec-
LOCATION:Jardin des Sans souci\, 9\, rue Louise Michel\, Grenoble
NAME:Portes ouvertes du Jardin partagé "Sans Souci" (avec un jeu de piste
  !)
END:VEVENT
END:VCALENDAR
