BEGIN:VCALENDAR
VERSION:2.0
PRODID:-//AgendaBulle//https://agendabulle.fr//
BEGIN:VEVENT
SUMMARY:Vélorution autour des jardins partagés de Grenoble
DTSTART;TZID=Europe/Paris:20260425T140000
DTEND;TZID=Europe/Paris:20260425T160000
DTSTAMP:20260422T224444Z
UID:5561f0edc5fe54371baa97274d00dae8@agendabulle.fr
DESCRIPTION:Une vélorution pour découvrir la nature comestible urbaine e
 t les jardins collectifs !\n\nVous arpentez Grenoble en vélo depuis longt
 emps mais vous n’avez jamais vu les coins cachés qui ressellent de pota
 ger\, de rires et de fleurs ?\n\nC’est l’occasion ! On vous propose un
  parcours à vélo ou en trottinette\, d’ouest en est de Grenoble pour d
 écouvrir les spots de nature comestible urbaine et les jardins collectifs
  sur le trajet.\n\nVenir avec un vélo ou une trottinette électrique.\n\n
 14H : Départ jardin du sans souci (9 rue Louise Michel – Grenoble) 17H 
 : Arrivée jardin de la poterne (24 chemin de la Poterne – Grenoble)\n\n
 Trajet : jardin sans souci – piste cyclable Salengro – verger Salengro
  – verger Pompidou – bassin Pompidou – jardin Léo Lagrange – parc
  Flaubert – mare Flaubert – MC2- piste cyclable jeux olympiques – ja
 rdin abbaye – verger aventure – jardin de la poterne »\n\nDégustatio
 n gratuite à l’arrivée\n\nPrix libre\nhttp://www.agendabulle.fr/event/
 2026/4/25/2450-velorution-autour-des-jardins-partages-de-grenoble\nhttps:/
 /www.le-tamis.info/evenement/velorution-autour-des-jardins-partages-de-gre
 noble
LOCATION:Jardin des Sans souci\, 9\, rue Louise Michel\, Grenoble
NAME:Vélorution autour des jardins partagés de Grenoble
END:VEVENT
END:VCALENDAR
