BEGIN:VCALENDAR
VERSION:2.0
PRODID:-//AgendaBulle//https://agendabulle.fr//
BEGIN:VEVENT
SUMMARY:Émission de Micro-Ondes : « Fémonationalisme : comment les dro
 its des femmes sont utilisés à des fins racistes »
DTSTART;TZID=Europe/Paris:20260425T123000
DTEND;TZID=Europe/Paris:20260425T143000
DTSTAMP:20260422T224443Z
UID:056a278dc7e559b59e0ae61e015b6614@agendabulle.fr
DESCRIPTION:Le samedi 25 avril à partir de 12h30 sur Radio Campus Grenobl
 e (90.8 fm)\, Micro-Ondes vous propose une émission intitulée : « Fé
 monationalisme : comment les droits des femmes sont utilisés à des fins 
 racistes » Depuis la mort du militant identitaire Quentin Deranque\, le 
 collectif Nemesis fait beaucoup parler de lui. Son utilisation d'arguments
  censés défendre les femmes (pour elles\, ça veut dire les femmes blanc
 hes\, cis et hétérosexuelles) pour servir un agenda d’extrême droite 
 peut surprendre et scandaliser.\n\nPourtant ce procédé n'a rien de nouve
 au. Du fémonationalisme au fémofascisme\, de l’État aux groupuscules 
 identitaires en passant par des féministes censées être de gauche\, l'u
 tilisation du droit des femmes pour servir un agenda raciste et impériali
 ste est un phénomène tristement courant. Dans cette émission\, nous rec
 evons 3 militantes grenobloises antifascistes et féministes pour nous par
 ler de tout ça.\n\nNous vous proposerons également une interview d’une
  militante du Planning Familial de Saint Étienne qui nous parle des dange
 rs liés à la tentative d’implantation de l’association Familya\, li
 ée à Pierre Edouard Stérin\, dans cette ville. Ainsi qu’un montage de
  la chercheuse et journaliste Léane Alestra et un autre des prises de par
 oles enregistrées lors de la manif du 8 mars dernier à Grenoble.\n\nEt b
 ien sûr\, de la musique !\n\nL’émission sera également en ligne à p
 artir du 25/04 sur :\n\nhttps://campusgrenoble.org/series/micro-ondes/\n\
 nBonne écoute !\nhttp://www.agendabulle.fr/event/2026/4/25/2448-emission
 -de-micro-ondes-femonationalisme-comment-les-droits-des-femmes-sont-utilis
 es-a-des-fins-racistes\nhttps://www.le-tamis.info/evenement/emission-de-mi
 cro-ondes-femonationalisme-comment-l
LOCATION:/!\\ à vérifier sur la page source /!\\\, Grenoble
NAME:Émission de Micro-Ondes : « Fémonationalisme : comment les droits
  des femmes sont utilisés à des fins racistes »
END:VEVENT
END:VCALENDAR
