BEGIN:VCALENDAR
VERSION:2.0
PRODID:-//AgendaBulle//https://agendabulle.fr//
BEGIN:VEVENT
SUMMARY:Visite d'une maison en rénovation à Noyarey
DTSTART;TZID=Europe/Paris:20260425T100000
DTEND;TZID=Europe/Paris:20260425T120000
DTSTAMP:20260422T221205Z
UID:532c97de0dcb3b9b68afcb52d8abd4ed@agendabulle.fr
DESCRIPTION:Vous envisagez des travaux de rénovation énergétique dans v
 otre maison\, pour réduire vos factures et améliorer votre confort ?\n\n
 Venez visiter une maison récemment rénovée à Noyarey samedi 25 avril 2
 026 à 10h et échanger avec les propriétaires\, le maître d’œuvre et
  l'équipe de l'ALEC.\n\nMitoyenne par le garage située dans un lotisseme
 nt\, cette maison de 105 m2 a été construite en 1979.\n\nLes travaux\n> 
 Isolation et réfection complète de la toiture\n> Isolation thermique par
  l'extérieur des murs\n> Remplacement de fenêtres et d'une porte vers un
  local non chauffé\n>Installation d'une ventilation double flux\n> Instal
 lation d'un poêle à bûches\nhttp://www.agendabulle.fr/event/2026/4/25/2
 385-visite-dune-maison-en-renovation-a-noyarey\nhttps://www.facebook.com/e
 vents/963461016366926/
IMAGE;VALUE=URI:http://www.agendabulle.fr/media/2149f75b-d7d9-44bb-9e27-0f
 840b94136b.jpg
LOCATION:/!\\ à vérifier sur la page source /!\\\, Grenoble
NAME:Visite d'une maison en rénovation à Noyarey
END:VEVENT
END:VCALENDAR
