BEGIN:VCALENDAR
VERSION:2.0
PRODID:-//AgendaBulle//https://agendabulle.fr//
BEGIN:VEVENT
SUMMARY:Rencontre mensuelle Handissidence
DTSTART;TZID=Europe/Paris:20260425T140000
DTEND;TZID=Europe/Paris:20260425T160000
DTSTAMP:20260420T131840Z
UID:ec5c76d0bb7391c09ba5ae65ddbf4a27@agendabulle.fr
DESCRIPTION:Description Rendez-vous le samedi 25 avril de 14h à 17h pour 
 les RENCONTRES QUEER CONTRE LE VALIDISME ET LA PSYCHOPHOBIE 🌈 au Lîeu\
 , 17 rue Abbé Grégoire\, Grenoble – arrêt Saint-Bruno 📍 Pour parta
 ger un goûter\, dessiner\, papoter\, se rencontrer\, proposer des activit
 és... Et préparer des actions antivalidistes pour la Marche des Fiertés
  de Grenoble ✨ Pas de permanence d'entraide\, les demandes d'aides peuv
 ent toujours nous être adressées sur nos réseaux 😊 INFOS ACCESSIBILI
 TÉ : Lieu et sanitaire accessible PMR. Stim-toys\, casques antibruit\, bo
 uchons d'oreilles\, salle calme et espace extérieur. Gel hydroalcoolique\
 , masques FFP2 (et chirurgicaux) à disposition et port du masque en inté
 rieur systématique (sauf contre-indication médicale). Nous invitons les 
 personnes qui ont des symptômes en lien avec une infection virale à ne p
 as venir aux rencontres. Nous ne pourrons PAS offrir de traduction LSF ou 
 d'accompagnement pour personne avec handicap visuel cette fois-ci. QUESTIO
 NS - DEMANDES - INFOS : queerantivalidisme38@tutamail.com Si tu veux être
  au courant des prochains événements\, nous pouvons t'ajouter à la mail
 ing-list  💌 Nous restons à ta disposition pour tout besoin spécifiqu
 e\, que ce soit pour te chercher à la porte\, présenter le lieu\, discut
 er individuellement avant de rejoindre le groupe\, demander des accommodat
 ions… ❤️\nhttp://www.agendabulle.fr/event/2026/4/25/2354-rencontre-m
 ensuelle-handissidence\nhttps://www.le-tamis.info/evenement/rencontre-mens
 uelle-handissidence
LOCATION:Le lieu\, 17 rue Abbé Grégoire\, Grenoble\, Grenoble
NAME:Rencontre mensuelle Handissidence
END:VEVENT
END:VCALENDAR
