BEGIN:VCALENDAR
VERSION:2.0
PRODID:-//AgendaBulle//https://agendabulle.fr//
BEGIN:VEVENT
SUMMARY:🔮🌿 Causerie Avenir Climatique 🌿🔮
DTSTART;TZID=Europe/Paris:20260425T183000
DTEND;TZID=Europe/Paris:20260425T203000
DTSTAMP:20260420T131839Z
UID:ed5b0f712d51f9c70467ad259b5573da@agendabulle.fr
DESCRIPTION:Les causeries d’Avenir Climatiques\, ce sont des présentati
 ons de 30 à 45 min sur des sujets divers\, dans le but d’en apprendre p
 lus sur les enjeux énergie – climat.\n\nChaque présentation est suivie
  d’un temps d’échange et se fait dans une ambiance conviviale\, avec 
 moult gâteaux et jus de fruit (si vous pouvez en amener\, c’est top).\n
 \nEn bonus\, Avenir Climatique vous présentera des jeux de son projet Edu
 climat après les présentations !\nhttp://www.agendabulle.fr/event/2026/4
 /25/2347-causerie-avenir-climatique\nhttps://www.le-tamis.info/evenement/c
 auserie-avenir-climatique
LOCATION:La base\, 17 rue du Dauphiné\, Grenoble
NAME:🔮🌿 Causerie Avenir Climatique 🌿🔮
END:VEVENT
END:VCALENDAR
