BEGIN:VCALENDAR
VERSION:2.0
PRODID:-//AgendaBulle//https://agendabulle.fr//
BEGIN:VEVENT
SUMMARY:Atelier collaboratif : La Fresque du Consentement (contre les viol
 ences sexuelles)
DTSTART;TZID=Europe/Paris:20260425T140000
DTEND;TZID=Europe/Paris:20260425T160000
DTSTAMP:20260420T131838Z
UID:eade75f0c68bcec49f2a4c0e726413d8@agendabulle.fr
DESCRIPTION:La Fresque du Consentement est un atelier collaboratif pour pa
 rler de culture du consentement. L’intention est de créer un espace d
 ’échange sur le consentement à partir de vécus personnels\, de transm
 ettre du vocabulaire et le cadre légal lié au consentement et de réflé
 chir collectivement à comment créer une culture du consentement.\n\nLa F
 resque du Consentement est un atelier d’intelligence collective de 3 heu
 res. A l’aide de plusieurs sets de cartes\, les participant·es échange
 nt autour des fondements d’un consentement valide puis découvrent ce qu
 i peut influencer leur capacité à consentir et les implications légales
 .\n\nPour finir ils et elles sont invité.e.s à imaginer à quoi ressembl
 erait une culture du consentement.\n\nSur inscription : https://www.helloa
 sso.com/associations/fresque-du-consentement/evenements/fresque-du-consent
 ement-a-grenoble\n\nDe 14h à 17h\n\nLe lieu est encore à définir\, un m
 ail vous sera envoyé à la suite de votre inscription.\n\nSi vous n'avez 
 pas de nouvelles\, vous pouvez nous écrire à contact@fresque-du-consente
 ment.fr\nhttp://www.agendabulle.fr/event/2026/4/25/2332-atelier-collaborat
 if-la-fresque-du-consentement-contre-les-violences-sexuelles\nhttps://www.
 le-tamis.info/evenement/atelier-collaboratif-la-fresque-du-consentement-co
LOCATION:Rue Bayard\, Rue Bayard Grenoble\, Grenoble
NAME:Atelier collaboratif : La Fresque du Consentement (contre les violenc
 es sexuelles)
END:VEVENT
END:VCALENDAR
