BEGIN:VCALENDAR
VERSION:2.0
PRODID:-//AgendaBulle//https://agendabulle.fr//
BEGIN:VEVENT
SUMMARY:Les Portes Ouvertes de L'éléfàn
DTSTART;TZID=Europe/Paris:20260425T100000
DTEND;TZID=Europe/Paris:20260425T120000
DTSTAMP:20260420T131836Z
UID:5a73a9dc5114eaac20dfd11da0c214b6@agendabulle.fr
DESCRIPTION:Ces Portes Ouvertes ont lieu dans le cadre des 48H de l'Agricu
 lture Urbaine coordonnées par l'association Cultivons!\n\nPour consommer 
 autrement \, de manière responsable à travers une alternative à la gran
 de distribution \, viens découvrir le seul supermarché participatif gren
 oblois ! Psssst.... tu pourras y faire des courses même si tu n’es pas 
 adhérent.e à l'association ! 😉\n\nAu programme : 🐘 Dégustations d
 e produits avec nos bénévoles et producteurs 🐘 Visite le magasin 🐘
  Découvre nos rayons avec nos produits bio\, locaux et en vrac 🐘 Écha
 nge avec nos membres et goûte à nos bons produits locaux 🐘 Et surtout
 … fais tes courses chez nous\, même sans être membre\, le temps d’un
 e journée !\n\n→ Crée en 2016\, L'éléfàn est un supermarché partic
 ipatif\, géré et gouverné par ses membres. Un projet éthique\, qui per
 met de redonner du sens à nos actes de consommation. C'est un supermarch
 é responsable\, qui permet d'accompagner la transition alimentaire sur le
  territoire métropolitain grenoblois.\n\nViens seul.e\, entre ami.es ou e
 n famille\, et n’oublie pas ton panier 🛒\nhttp://www.agendabulle.fr/e
 vent/2026/4/25/2306-les-portes-ouvertes-de-lelefan\nhttps://www.le-tamis.i
 nfo/evenement/les-portes-ouvertes-de-lelefan
LOCATION:La Correspondance\, 30 bis\, avenue Marcelin Berthelot\, 38100 Gr
 enoble\, Grenoble
NAME:Les Portes Ouvertes de L'éléfàn
END:VEVENT
END:VCALENDAR
