BEGIN:VCALENDAR
VERSION:2.0
PRODID:-//AgendaBulle//https://agendabulle.fr//
BEGIN:VEVENT
SUMMARY:Groupe de paroles pour Parents Solos
DTSTART;TZID=Europe/Paris:20260425T173000
DTEND;TZID=Europe/Paris:20260425T193000
DTSTAMP:20260420T131836Z
UID:727013f50a6281d41d50ecc9903a547c@agendabulle.fr
DESCRIPTION:Le Café des Enfants propose un groups de parole collectif et 
 individuel pour les parents solos\, animé par deux psychologues\, suivis 
 d'un repas partagé.\nhttp://www.agendabulle.fr/event/2026/4/25/2305-group
 e-de-paroles-pour-parents-solos\nhttps://www.le-tamis.info/evenement/group
 e-de-paroles-pour-parents-solos
LOCATION:Le Café des Enfants Grenoble\, 9 Rue des Champs Elysées\, 38100
  Grenoble\, Grenoble
NAME:Groupe de paroles pour Parents Solos
END:VEVENT
END:VCALENDAR
