BEGIN:VCALENDAR
VERSION:2.0
PRODID:-//AgendaBulle//https://agendabulle.fr//
BEGIN:VEVENT
SUMMARY:Les légendes autour des règles
DTSTART;TZID=Europe/Paris:20260425T154500
DTEND;TZID=Europe/Paris:20260425T174500
DTSTAMP:20260420T024436Z
UID:adf116a0732414be4e25d26f3ce87aff@agendabulle.fr
DESCRIPTION:Atelier d'illustration.« Ça fait faner les fleurs et tourner
  la mayonnaise ». Illustrez les légendes autour des règles\, de l’Ant
 iquité à aujourd’hui.Initiation aux crayons et aquarelles avec Pauline
  Rochette.\nhttp://www.agendabulle.fr/event/2026/4/25/2196-les-legendes-au
 tour-des-regles\nhttps://bm-grenoble.fr/Default/doc/CALENDAR/3257/les-lege
 ndes-autour-des-regles
IMAGE;VALUE=URI:http://www.agendabulle.fr/media/1f36f985-f652-4f12-916d-2a
 ee0bc9b60d.jpg
LOCATION:Bibliothèque d’étude et du patrimoine\, 12 Bd Maréchal Lyaut
 ey 38000 Grenoble\, Grenoble
NAME:Les légendes autour des règles
END:VEVENT
END:VCALENDAR
