BEGIN:VCALENDAR
VERSION:2.0
PRODID:-//AgendaBulle//https://agendabulle.fr//
BEGIN:VEVENT
SUMMARY:Contes et chansons en espagnol
DTSTART;TZID=Europe/Paris:20260425T153000
DTEND;TZID=Europe/Paris:20260425T173000
DTSTAMP:20260420T024435Z
UID:cb5f16fee9ef4128238cca99ef038845@agendabulle.fr
DESCRIPTION:Cuentos y canciones en españolPara divertirse\, imaginar\, de
 scubrir y compartir con vuestros niños el placer de la lectura de cuentos
  y canciones infantiles en español. Maison Latina ofrece una merienda a l
 os niños participantes.\nhttp://www.agendabulle.fr/event/2026/4/25/2194-c
 ontes-et-chansons-en-espagnol\nhttps://bm-grenoble.fr/Default/doc/CALENDAR
 /2184/contes-et-chansons-en-espagnol
IMAGE;VALUE=URI:http://www.agendabulle.fr/media/743ed904-3f60-4976-839d-d6
 9985c1179d.jpg
LOCATION:Bibliothèque municipale internationale\, 6 Pl. de Sfax\, 38000 G
 renoble\, Grenoble
NAME:Contes et chansons en espagnol
END:VEVENT
END:VCALENDAR
