BEGIN:VCALENDAR
VERSION:2.0
PRODID:-//AgendaBulle//https://agendabulle.fr//
BEGIN:VEVENT
SUMMARY:Brève histoire des règles
DTSTART;TZID=Europe/Paris:20260425T150000
DTEND;TZID=Europe/Paris:20260425T170000
DTSTAMP:20260420T024435Z
UID:27f6feabf1a54a38649fceb020256c15@agendabulle.fr
DESCRIPTION:Y-avait-il des cups menstruelles dans l’Antiquité ? Les naz
 is ont-ils inventé le tampon applicateur ?L'association Patriarchie répo
 nd aux questions que personne ne se pose !\nhttp://www.agendabulle.fr/even
 t/2026/4/25/2193-breve-histoire-des-regles\nhttps://bm-grenoble.fr/Default
 /doc/CALENDAR/3255/breve-histoire-des-regles
IMAGE;VALUE=URI:http://www.agendabulle.fr/media/a963e323-da2d-440e-9c85-e4
 0ec5e1c227.jpg
LOCATION:Bibliothèque d’étude et du patrimoine\, 12 Bd Maréchal Lyaut
 ey 38000 Grenoble\, Grenoble
NAME:Brève histoire des règles
END:VEVENT
END:VCALENDAR
