BEGIN:VCALENDAR
VERSION:2.0
PRODID:-//AgendaBulle//https://agendabulle.fr//
BEGIN:VEVENT
SUMMARY:Bric en Vrac - "REMAKE" avec Nabla Leviste
DTSTART;TZID=Europe/Paris:20260425T203000
DTEND;TZID=Europe/Paris:20260425T223000
DTSTAMP:20260420T024424Z
UID:ff7b3f20facc63341dd2fff77d478837@agendabulle.fr
DESCRIPTION:Et si votre film ou série culte prenait vie… mais d’une f
 açon totalement inattendue ?\n\nBienvenue dans REMAKE\, une pièce 100 % 
 improvisée ! Aidez les comédiens à réinventer vos histoires préféré
 es.\n\nChaque représentation devient une histoire inédite… où le cin
 éma se réinvente sous vos yeux !\n\nPour ce spectacle\, un invité excep
 tionnel: Nabla Leviste.\n\nDepuis 20 ans\, Nabla pratique l’improvisatio
 n théâtrale\, dans les compagnies qu’il a fondées à Paris (EUX Impro
  jusqu’en 2023\, LA JOIE Impro depuis 2023).\n\nDirecteur artistique\, c
 omédien\, metteur en scène et formateur\, il a participé à près de 20
 00 représentations\, sur des formats variés\, en France et à l‘étran
 ger (Montréal\, Chicago\, Atlanta\, San Francisco\, etc.). \nhttp://www.a
 gendabulle.fr/event/2026/4/25/2188-bric-en-vrac-remake-avec-nabla-leviste\
 nhttps://www.facebook.com/events/2100465687457964/
IMAGE;VALUE=URI:http://www.agendabulle.fr/media/27c11e59-96fd-4ee1-8d9c-ae
 78cbf3fa8d.jpg
LOCATION:La Basse Cour\, 18 Rue Colbert 38000 Grenoble\, Grenoble
NAME:Bric en Vrac - "REMAKE" avec Nabla Leviste
END:VEVENT
END:VCALENDAR
