BEGIN:VCALENDAR
VERSION:2.0
PRODID:-//AgendaBulle//https://agendabulle.fr//
BEGIN:VEVENT
SUMMARY:Grosse pagaille • Ciné-conférence : Archipel Grenoble (1&2)
DTSTART;TZID=Europe/Paris:20260425T140000
DTEND;TZID=Europe/Paris:20260425T170000
DTSTAMP:20260420T023621Z
UID:165654dac0b45a7b87f181cd8fc63d02@agendabulle.fr
DESCRIPTION:📽️🎞️ 𝗚𝗿𝗼𝘀𝘀𝗲 𝗽𝗮𝗴𝗮𝗶
 𝗹𝗹𝗲 #𝟮\n\nL’an passé nous faisions le pari qu’il y avait\
 , dans le grand bazar de nos collections\, de quoi monter un événement s
 ans autre cohérence que celle de l’amour des images. La joie de vous av
 oir vu répondre présent·es nous pousse à rejouer le jeu\, avec encore 
 plus de séances et d’enthousiasme.\n\nÀ nouveau\, pas d’autre règle
  que celle de vous montrer les raretés\, les trouvailles\, et l’avancé
 e de nos recherches dans cette mémoire vivante que nous conservons. Il y 
 aura cette année tout un récit de la scène cinématographique grenobloi
 se des années 70\, que nous nous efforçons de documenter depuis maintena
 nt deux ans. Mais aussi une histoire de la couleur au cinéma\, pour cél
 ébrer la découverte chez nous de véritables copies in glorious Technico
 lor\, ainsi que deux longs métrages grenoblois\, le trop rare Light Motif
  de Yann Flandrin\, et notre restauration du film militant de Chi-Yan Wong
 \, L’Aspect rose de la chose.\n\nEt puis\, comme l’an passé\, le plai
 sir de terminer sur du 16 mm aux effets spéciaux truculents et aux couleu
 rs virées\, et de célébrer le cinéma comme un moment à partager ensem
 ble. Alors nous espérons vous revoir nombreux·euses pour semer la pagail
 le à la Cinémathèque !\n\nTillyan Bourdon\, attaché aux collections de
  la Cinémathèque de Grenoble.\n__________\n\n🎥🎙️ 𝗖𝗶𝗻
 𝗲́-𝗰𝗼𝗻𝗳𝗲́𝗿𝗲𝗻𝗰𝗲\n𝗔𝗿𝗰𝗵𝗶
 𝗽𝗲𝗹 𝗚𝗿𝗲𝗻𝗼𝗯𝗹𝗲\n\nCiné-conférence animée
  par Tillyan Bourdon (attaché aux collections de la Cinémathèque de Gre
 noble)\, Vanessa Nicolazic et Vincent Sorrel (chercheur·euses en cinéma)
 .\n\n𝘈𝘳𝘤𝘩𝘪𝘱𝘦𝘭 𝘎𝘳𝘦𝘯𝘰𝘣𝘭𝘦 
 𝘦𝘴𝘵 𝘶𝘯 𝘱𝘳𝘰𝘨𝘳𝘢𝘮𝘮𝘦 𝘥𝘦 𝘯
 𝘶𝘮𝘦́𝘳𝘪𝘴𝘢𝘵𝘪𝘰𝘯 𝘦𝘵 𝘥𝘦 𝘷𝘢
 𝘭𝘰𝘳𝘪𝘴𝘢𝘵𝘪𝘰𝘯 𝘴𝘰𝘶𝘵𝘦𝘯𝘶 𝘱
 𝘢𝘳 𝘭𝘢 𝘋𝘙𝘈𝘊 𝘈𝘶𝘷𝘦𝘳𝘨𝘯𝘦-𝘙
 𝘩𝘰̂𝘯𝘦-𝘈𝘭𝘱𝘦𝘴.\n\n🎥 𝗔𝗿𝗰𝗵𝗶𝗽
 𝗲𝗹 𝟭\n𝗔̀ 𝗽𝗿𝗼𝗽𝗼𝘀 𝗱’𝘂𝗻 𝗳𝗲
 𝘀𝘁𝗶𝘃𝗮𝗹 : 𝘂𝗻 𝗳𝗶𝗹𝗺 𝗽𝗲𝗿𝗱𝘂 
 𝗲𝘁 𝗿𝗲𝘁𝗿𝗼𝘂𝘃𝗲́\n\nEn 1972\, le Festival Natio
 nal et International du Court-Métrage s’installe à Grenoble\, où il a
 ura lieu jusqu’en 1976. Lors de la deuxième édition\, Jean Rouch invit
 e la cinéaste Annie Tresgot à réaliser un film sur l’évènement\, de
 stiné à être projeté à la fin du festival. La récente découverte à
  la Cinémathèque des rushes image et son\, et leur restauration en cours
 \, nous permet d’imaginer ce à quoi ce film\, considéré comme perdu\,
  a pu ressembler.\n\n🎥 𝗔𝗿𝗰𝗵𝗶𝗽𝗲𝗹 𝟮\n𝗣𝗼
 𝘂𝗿 𝘂𝗻 𝗰𝗶𝗻𝗲́𝗺𝗮 𝗱𝗲 𝗽𝗿𝗼𝘅𝗶
 𝗺𝗶𝘁𝗲́\n\nDès le début des années 1970\, une politique loca
 le à Grenoble a porté l’ambition de soutenir un cinéma de proximité 
 dont l’enjeu était de réduire la distance entre le cinéma et la réal
 ité en rapprochant le cinéma de la société\, la création de la diffus
 ion\, les spectateu·rices de la fabrication des films. Il s’agissait de
  voir des films et d’en débattre\, mais aussi d’en faire.\n\n📆 Sam
  25 avr • de 14h à 17h • Cinéma Juliet Berto\n🎟️ Entrée libre\
 n\n📽️ – www.cinemathequedegrenoble.fr/agenda/cine-conference-archip
 el-grenoble\nhttp://www.agendabulle.fr/event/2026/4/25/2150-grosse-pagaill
 e-cine-conference-archipel-grenoble-12\nhttps://www.facebook.com/events/83
 0070620020426/
IMAGE;VALUE=URI:http://www.agendabulle.fr/media/ef6343f0-6fc3-40d2-8c94-03
 693e3f2320.jpg
LOCATION:Salle Juliet Berto\, 7 Place Saint-André\, 38000 Grenoble\, Fran
 ce\, Grenoble
NAME:Grosse pagaille • Ciné-conférence : Archipel Grenoble (1&2)
END:VEVENT
END:VCALENDAR
