BEGIN:VCALENDAR
VERSION:2.0
PRODID:-//Agenda Bulle//https://agendabulle.fr//
BEGIN:VEVENT
SUMMARY:@flaca_boonse et @nikitch_music pour duo
DTSTART;TZID=Europe/Paris:20260424T203000
DTEND;TZID=Europe/Paris:20260424T223000
DTSTAMP:20260424T145822Z
UID:c941d6a6525d2402f451facb9da5e606@agendabulle.fr
DESCRIPTION:Vendredi soir au Féno! \n\nVendredi prochain on profites de n
 otre bel espace pour faire venir un duo de feu!!🔥\n\n@flaca_boonse et @
 nikitch_music pour duo électronique imprévisible! \n\n🍸Au bar\, des p
 rix lights avec à 5€ \nSofts/Vin/ Spritz/50cl blonde Furieuse. \n🍽 E
 n cuisine\, toujours nos tapas à partager\n \nVenez essayer le Féno! \nO
 n vous attends nombreux 🤩\n\nDescription de l'image :\n\nPhoto shared b
 y FÉNO on April 18\, 2026 tagging @nikitch_music. May be an image of one 
 or more people\, magazine\, poster and text that says 'VENDREDI 24 AVRIL-2
 0H30 20H30 AVRIL FLACA BOONSE B2B NIKITCH DJ set: Une rencontre derrière 
 les platines entre deux univers électroniques singuliers grosses hybrides
 \, basses profondes et sélections audacieuses\, un B2B imprévisible pour
  une soirée intense et résolument dansante TESTEZFENO!HAPPYHOUR ZFENO !H
 APPY HOUR En plus de notre carte\, Bière\, spritz\, vin prix doux frites 
 et grignotages dispos'.\nhttps://www.agendabulle.fr/event/2026/4/24/2550-f
 laca_boonse-et-nikitch_music-pour-duo\nhttps://www.instagram.com/p/DXRcs41
 CCxz/
IMAGE;VALUE=URI:https://www.agendabulle.fr/media/96392a8d-2f4a-48bb-a1fe-4
 a73653fd307.jpg
LOCATION:Féno - Restaurant du musée\, 5 Pl. de Lavalette\, 38000 Grenobl
 e\, Grenoble
NAME:@flaca_boonse et @nikitch_music pour duo
END:VEVENT
END:VCALENDAR
