BEGIN:VCALENDAR
VERSION:2.0
PRODID:-//Agenda Bulle//https://agendabulle.fr//
BEGIN:VEVENT
SUMMARY:Ciné-rencontres : Le vivant qui se défend (comment allier milita
 ntisme et naturalisme ?)
DTSTART;TZID=Europe/Paris:20260424T180000
DTEND;TZID=Europe/Paris:20260424T200000
DTSTAMP:20260424T092018Z
UID:8b27cbc911120b8f7a1e4d3e6f996e7a@agendabulle.fr
DESCRIPTION:Vincent Verzat filme les mobilisations écologiques depuis 10 
 ans sur la chaine youtube "Partager c’est Sympa" avec 310k abonné·es.\
 n\nPartant d’un récit personnel et sensible\, le film “Le VIVANT qui 
 se défend” retrace son cheminement entre militantisme et naturalisme\, 
 sa recherche d’un équilibre entre combat et contemplation\, traçant un
  chemin pour vivre dignement et affronter ce qui vient.\n\nDes luttes fore
 stières du plateau des Millevaches à la tanière d’une famille de blai
 reaux\, en passant par les méga bassines du Poitou\, les cerfs du Vercors
  et l’autoroute A69\, “Le VIVANT qui se défend” fait le lien entre 
 les animaux sauvages et les luttes qui sont menées partout en France cont
 re la destruction de leurs habitats.\n\nÀ 18h\n\nLa Correspondance 30 bis
  avenue Marcellin Berthelot Grenoble\nhttps://www.agendabulle.fr/event/202
 6/4/24/2541-cine-rencontres-le-vivant-qui-se-defend-comment-allier-militan
 tisme-et-naturalisme\nhttps://www.le-tamis.info/evenement/cine-rencontres-
 le-vivant-qui-se-defend-comment-al
LOCATION:La Correspondance\, 30 bis\, avenue Marcelin Berthelot\, 38100 Gr
 enoble\, Grenoble
NAME:Ciné-rencontres : Le vivant qui se défend (comment allier militanti
 sme et naturalisme ?)
END:VEVENT
END:VCALENDAR
