BEGIN:VCALENDAR
VERSION:2.0
PRODID:-//Agenda Bulle//https://agendabulle.fr//
BEGIN:VEVENT
SUMMARY:Conférence : Potager Bio sur de petits espaces
DTSTART;TZID=Europe/Paris:20260424T180000
DTEND;TZID=Europe/Paris:20260424T193000
DTSTAMP:20260424T091704Z
UID:7d2bf6f68d73b1b6320607984397340b@agendabulle.fr
DESCRIPTION:Olivier Puech\, de Terre Vivante\, vous donnera toutes les cl
 és de fertilité\, les gestes\, le matériel pour démarrer et réussir u
 n potager bio sur de petits espaces. On peut démarrer avec un sol : comme
 nt le préparer\, quelles cultures sont adaptées\, comment gérer l’arr
 osage et s’adapter à son exposition ? On peut aussi démarrer des potag
 ers sans sol\, sur balcon\, terrasse : quels carrés\, avec quelles cultur
 es\, comment les remplir et gagner en productivité ? Seront également ab
 ordés la verticalité pour gagner sur toutes les dimensions du potager\, 
 les amendements et engrais nécessaires\, les graines\, les plants\, les s
 aisonnalités….\n\nGratuit sans inscription \nhttps://www.agendabulle.fr
 /event/2026/4/24/2531-conference-potager-bio-sur-de-petits-espaces\nhttps:
 //www.facebook.com/events/1863631800964946/
IMAGE;VALUE=URI:https://www.agendabulle.fr/media/55dbf767-3212-42c4-bdc3-2
 3e4cd988d83.jpg
LOCATION:Le Bar Radis\, 15 rue Gustave Flaubert\, grenoble
NAME:Conférence : Potager Bio sur de petits espaces
END:VEVENT
END:VCALENDAR
