BEGIN:VCALENDAR
VERSION:2.0
PRODID:-//Agenda Bulle//https://agendabulle.fr//
BEGIN:VEVENT
SUMMARY:L'Abolition des privilèges – Le Royal velours
DTSTART;TZID=Europe/Paris:20260424T143000
DTEND;TZID=Europe/Paris:20260424T163000
DTSTAMP:20260423T233231Z
UID:f75e7bf40abd0b6e746079e2f84582db@agendabulle.fr
DESCRIPTION:Installez-vous dans l’Assemblée nationale et devenez partie
  prenante de la nuit historique du 4 août 1789. D’APRÈS LE ROMAN DE BE
 RTRAND GUILLOT ADAPTATION ET MISE EN SCÈNE HUGUES DUCHÊNE LE ROYAL VELOU
 RS États généraux de 1789. La France va mal. C’est un État en défic
 it chronique où les plus riches échappent à l’impôt. Un régime à b
 out de souffle et un peuple à bout de nerfs qui réclame justice. Un pays
  riche mais bloqué. Jusqu’à ce qu’au cours d’une nuit\, à Versail
 les\, tout bascule. Jouée dans un espace quadrifrontal\, l’Abolition de
 s privilèges est une formidable adaptation par le jeune et talentueux Hug
 ues Duchêne du roman de Bertrand Guillot. Tout est là sur le plateau : l
 a grande Histoire\, un comédien époustouflant incarnant une dizaine de p
 ersonnages\, une surprise dramaturgique hilarante et le public convoqué 
 à réfléchir aux défis politiques contemporains. Un coup de maître !\n
 https://www.agendabulle.fr/event/2026/4/24/2495-labolition-des-privileges-
 le-royal-velours\nhttps://www.grenoble.fr/agenda/4280/45-l-abolition-des-p
 rivileges-le-royal-velours.htm
IMAGE;VALUE=URI:https://www.agendabulle.fr/media/fb584cd0-df49-48e1-96d6-5
 48e32ebb714.jpg
LOCATION:Théâtre 145\, 145 Cours Berriat 38000 Grenoble\, Grenoble
NAME:L'Abolition des privilèges – Le Royal velours
END:VEVENT
END:VCALENDAR
