BEGIN:VCALENDAR
VERSION:2.0
PRODID:-//Agenda Bulle//https://agendabulle.fr//
BEGIN:VEVENT
SUMMARY:Des instruments trop discrets ?
DTSTART;TZID=Europe/Paris:20260424T193000
DTEND;TZID=Europe/Paris:20260424T213000
DTSTAMP:20260423T233231Z
UID:465c75bc42c20c9ffd233a1458598918@agendabulle.fr
DESCRIPTION:Pleins feux sur l’alto\, la clarinette et le basson\, dans d
 es œuvres aussi discrètes ou singulières que le sont ces trois instrume
 nts\, originalement réunis. Alternant les dispositifs au fil des œuvres\
 , le concert réunit l’ensemble des instrumentistes pour un galant Diver
 timento de la très rare duchesse Anna Amalia von Braunschweig-Wolfenbütt
 el\, artiste et mécène reconnue dans le Weimar de la fin du XVIIIe sièc
 le. Après une étape à Vienne avec le Trio des Quilles de Mozart\, cap s
 ur la Russie de Glinka\, mais dans des œuvres de jeunesse encore résolum
 ent tournées vers l’Italie et l’Allemagne. Un programme finalement tr
 ès européen ! Fanny Martinet\, clarinette Louise Brunel\, alto Léonie S
 ouchu-Barberon\, basson Jean-Marie Bardèche\, piano\nhttps://www.agendabu
 lle.fr/event/2026/4/24/2494-des-instruments-trop-discrets\nhttps://www.gre
 noble.fr/agenda/6172/486-des-instruments-trop-discrets.htm
IMAGE;VALUE=URI:https://www.agendabulle.fr/media/20bb0284-582c-4de3-be52-c
 3fa4d04c9ec.jpg
LOCATION:Salle Olivier Messiaen\, Grenoble
NAME:Des instruments trop discrets ?
END:VEVENT
END:VCALENDAR
