BEGIN:VCALENDAR
VERSION:2.0
PRODID:-//Agenda Bulle//https://agendabulle.fr//
BEGIN:VEVENT
SUMMARY:Perds pas l'Nord ! - Messages glaciaires
DTSTART;TZID=Europe/Paris:20260424T201500
DTEND;TZID=Europe/Paris:20260424T221500
DTSTAMP:20260423T233231Z
UID:81cabef3c5aa7386baaeabeb47606f12@agendabulle.fr
DESCRIPTION:Ce spectacle raconte la rencontre entre deux scientifiques au 
 cœur de l’Antarctique. Mêlant conférence et concert\, ce spectacle ro
 cambolesque invite à ressentir la glace autrement et repenser notre relat
 ion avec les écosystèmes. Messages glaciaires est joué lors du festival
  "Perds Pas l'Nord !" pensé et organisé par La MADRE. C'est une producti
 on de l'association Névé. Notre festival ”Perds Pas l’Nord !” est 
 un élan collectif : spectacles\, animations\, débats et projections pour
  créer des espaces vivants et ressentir\, partager\, expérimenter d’au
 tres possibles. La MADRE est une association d’éducation populaire à l
 a croisée des questions sociales et environnementales. Essayons de mieux 
 comprendre ce monde en plein bouleversement et imaginons des réponses pou
 r demain ! La boussole est notre repère pour ne pas perdre le cap\, pour 
 inventer d’autres trajectoires et rechercher ensemble des réponses conc
 rètes et lucides. 30 bis\, avenue Marcelin Berthelot\, 38100 Grenoble Sec
 teur 4\nhttps://www.agendabulle.fr/event/2026/4/24/2493-perds-pas-lnord-me
 ssages-glaciaires\nhttps://www.grenoble.fr/agenda/6153/79-perds-pas-l-nord
 -messages-glaciaires.htm
IMAGE;VALUE=URI:https://www.agendabulle.fr/media/b045e055-28f1-4288-8438-f
 619b4f46e52.jpg
LOCATION:La Correspondance\, 30 bis\, avenue Marcelin Berthelot\, 38100 Gr
 enoble\, Grenoble
NAME:Perds pas l'Nord ! - Messages glaciaires
END:VEVENT
END:VCALENDAR
