BEGIN:VCALENDAR
VERSION:2.0
PRODID:-//Agenda Bulle//https://agendabulle.fr//
BEGIN:VEVENT
SUMMARY:Du cœur à la tête : santé et évolution spirituelle
DTSTART;TZID=Europe/Paris:20260424T200000
DTEND;TZID=Europe/Paris:20260424T220000
DTSTAMP:20260423T233231Z
UID:bdef523209af98e4a2fce9638380cba4@agendabulle.fr
DESCRIPTION:Par Jocelyne Louyot\, conférencière de l’U.R.C.I. section 
 Médecine. Parler de la tête\, c’est parler du cerveau et du mental. Le
 s scientifiques continuent leurs recherches sur le cerveau\, lui conféran
 t le rôle essentiel dans la plupart des fonctions physiologiques\, intell
 ectuelles et émotionnelles. Le cerveau serait ainsi le chef d’orchestre
  de notre corps. Or depuis quelques années\, les neuroscientifiques ont d
 écouvert que le cœur possède son propre système nerveux\, qu’il entr
 etient des relations constantes avec le cerveau\, lui envoyant même plus 
 de messages que le cerveau ne lui envoie.\nhttps://www.agendabulle.fr/even
 t/2026/4/24/2492-du-cur-a-la-tete-sante-et-evolution-spirituelle\nhttps://
 www.grenoble.fr/agenda/6336/79-du-coeur-a-la-tete-sante-et-evolution-spiri
 tuelle.htm
LOCATION:/!\\ à vérifier sur la page source /!\\\, Grenoble
NAME:Du cœur à la tête : santé et évolution spirituelle
END:VEVENT
END:VCALENDAR
