BEGIN:VCALENDAR
VERSION:2.0
PRODID:-//Agenda Bulle//https://agendabulle.fr//
BEGIN:VEVENT
SUMMARY:Perds pas l'Nord ! - Le vivant qui se défend
DTSTART;TZID=Europe/Paris:20260424T180000
DTEND;TZID=Europe/Paris:20260424T200000
DTSTAMP:20260423T233230Z
UID:a8982e34f61103ed4936a52f2f13ca70@agendabulle.fr
DESCRIPTION:"Le vivant qui se défend" est un film de Vincent Verzat\, vid
 éaste et journaliste qui nous invite à retracer son parcours à la reche
 rche d’un équilibre entre militantisme et contemplation du vivant. La p
 rojection du film se fait lors du festival "Perds Pas l'Nord !" pensé et 
 organisé par La MADRE. Il est réalisé par Vincent Verzat\, vidéaste\, 
 journaliste et militant. Un échange après le film sera animé par l'asso
 ciation ASPAS. Notre festival est un élan collectif : spectacles\, animat
 ions\, débats et projections pour créer des espaces vivants et ressentir
 \, partager\, expérimenter d’autres possibles. La MADRE est une associa
 tion d’éducation populaire à la croisée des questions sociales et env
 ironnementales. Projection Essayons de mieux comprendre ce monde en plein 
 bouleversement et imaginons des réponses pour demain ! La boussole est no
 tre repère pour ne pas perdre le cap\, pour inventer d’autres trajectoi
 res et rechercher ensemble des réponses concrètes et lucides.\nhttps://w
 ww.agendabulle.fr/event/2026/4/24/2491-perds-pas-lnord-le-vivant-qui-se-de
 fend\nhttps://www.grenoble.fr/agenda/6154/79-perds-pas-l-nord-le-vivant-qu
 i-se-defend.htm
IMAGE;VALUE=URI:https://www.agendabulle.fr/media/fc99e181-203b-400f-b891-a
 dc11c78f6ca.jpg
LOCATION:La Correspondance\, 30 bis\, avenue Marcelin Berthelot\, 38100 Gr
 enoble\, Grenoble
NAME:Perds pas l'Nord ! - Le vivant qui se défend
END:VEVENT
END:VCALENDAR
