BEGIN:VCALENDAR
VERSION:2.0
PRODID:-//Agenda Bulle//https://agendabulle.fr//
BEGIN:VEVENT
SUMMARY:Un journal intime inédit pour redécouvrir le quotidien sous l’
 Occupation
DTSTART;TZID=Europe/Paris:20260424T180000
DTEND;TZID=Europe/Paris:20260424T200000
DTSTAMP:20260423T233230Z
UID:6df0f66226a3fa82e204b6c4761ea994@agendabulle.fr
DESCRIPTION:Le vendredi 24 avril à partir de 18h\, venez découvrir\, ave
 c Marie Mianowski\, le journal tenu sous l’Occupation par Léonie Villar
 d\, une femme remarquable. Du 1er avril au 15 mai 2026\, la librairie Arth
 aud met à l’honneur l’éditeur de l’Université Grenoble Alpes à t
 ravers un nouveau cycle de six rencontres avec des auteurs et des autrices
  ainsi qu'une sélection d’ouvrages couvrant un large éventail de thém
 atiques. Le quatrième rendez-vous aura lieu le vendredi 24 avril\, en pr
 ésence de Marie Mianowski\, professeure de littératures anglophones à l
 'Université Grenoble Alpes\, autour du journal de guerre de Léonie Villa
 rd. Angliciste de formation et professeure d’anglais\, Léonie Villard (
 1878-1970) a été titulaire de la chaire de littérature anglaise et amé
 ricaine à l’université de Lyon à partir de 1922. Autrice de nombreux 
 ouvrages\, elle a eu un parcours universitaire remarquable pour une femme 
 de son époque. Semaine après semaine\, écoutant attentivement la BBC\, 
 Léonie Villard rend compte sur un ton souvent non dépourvu d’humour\, 
 de la vie quotidienne sous l’Occupation : les pénuries\, les inquiétud
 es\, les rumeurs\, mais aussi l’amitié et les réseaux de solidarité q
 ui l’entourent. Découvert\, traduit et annoté par Marie Mianowski\, ce
  témoignage exceptionnel permet aujourd’hui de faire entendre une voix 
 singulière de l’histoire lyonnaise.\nhttps://www.agendabulle.fr/event/2
 026/4/24/2490-un-journal-intime-inedit-pour-redecouvrir-le-quotidien-sous-
 loccupation\nhttps://www.grenoble.fr/agenda/6301/79-un-journal-intime-ined
 it-pour-redecouvrir-le-quotidien-sous-l-occupation.htm
IMAGE;VALUE=URI:https://www.agendabulle.fr/media/3a50185a-b550-4f2b-94f4-1
 94869903a2c.jpg
LOCATION:Librairie Arthaud\, 23\, Grande Rue 38000 Grenoble\, Grenoble
NAME:Un journal intime inédit pour redécouvrir le quotidien sous l’Occ
 upation
END:VEVENT
END:VCALENDAR
