BEGIN:VCALENDAR
VERSION:2.0
PRODID:-//Agenda Bulle//https://agendabulle.fr//
BEGIN:VEVENT
SUMMARY:70 ans du centre CEA de Grenoble : flashback sur l'histoire du cen
 tre et ses évolutions
DTSTART;TZID=Europe/Paris:20260424T123000
DTEND;TZID=Europe/Paris:20260424T143000
DTSTAMP:20260423T233230Z
UID:28594465db713a45700c03786b8c954d@agendabulle.fr
DESCRIPTION:Dans le cadre des 70 ans du centre CEA de Grenoble\, la procha
 ine conférence Midis by GIANT retrace l'histoire du centre\, profondémen
 t ancrée à Grenoble. Avec Pierre Caplier\, Directeur adjoint du centre\,
  pour un voyage dans le temps. Né dans le sillage de la création du Comm
 issariat à l’énergie atomique en 1945\, le Centre d’études nucléai
 res de Grenoble (CENG) a vu le jour en 1956 sous l’impulsion de Louis N
 éel\, avec une vision fondatrice : faire dialoguer recherche fondamentale
  et technologique\, innovation et industrie au service de la société. De
 puis sept décennies\, le centre n’a cessé de se transformer. De la rec
 herche nucléaire historique aux défis contemporains du numérique\, de l
 ’énergie\, de la santé\, des matériaux et de l’environnement\, il a
  su anticiper les mutations scientifiques et technologiques\, tout en rest
 ant fidèle à son esprit pionnier et à sa culture de coopération. Un vo
 yage dans le temps pour comprendre comment cette aventure scientifique\, p
 rofondément ancrée à Grenoble\, contribue à façonner des innovations 
 qui impactent notre quotidien. Parce que comprendre d’où l’on vient\,
  c’est aussi éclairer ce que nous construisons pour demain.\nhttps://ww
 w.agendabulle.fr/event/2026/4/24/2489-70-ans-du-centre-cea-de-grenoble-fla
 shback-sur-lhistoire-du-centre-et-ses-evolutions\nhttps://www.grenoble.fr/
 agenda/6207/79-70-ans-du-centre-cea-de-grenoble-flashback-sur-l-histoire-d
 u-centre-et-ses-evolutions.htm
LOCATION:Maison Minatec\, 3 Parv. Louis Néel\, 38054 Grenoble\, Grenoble
NAME:70 ans du centre CEA de Grenoble : flashback sur l'histoire du centre
  et ses évolutions
END:VEVENT
END:VCALENDAR
