BEGIN:VCALENDAR
VERSION:2.0
PRODID:-//Agenda Bulle//https://agendabulle.fr//
BEGIN:VEVENT
SUMMARY:Yoga du rire : séance découverte
DTSTART;TZID=Europe/Paris:20260424T110000
DTEND;TZID=Europe/Paris:20260424T130000
DTSTAMP:20260423T233230Z
UID:c1ea208b36c20e4b8077abc15f1954e2@agendabulle.fr
DESCRIPTION:Venez  découvrir le Yoga du Rire\, animé par Mélanie Ott-Ma
 sson\, Docteure en Pharmacie et animatrice certifiée en Yoga du Rire au s
 ein de Le Yoga du Rire\, qu’est-ce que c’est ? C’est une activité\,
  accessible à tous.  Pas besoin d’être souple\, ni d’avoir “le rir
 e facile” : le rire vient naturellement grâce à des exercices simples\
 , ludiques et bienveillants.A l’issue de la séance possibilité de s’
 inscrire à un atelier de  10 séances qui auront lieu tous les vendredis 
 de 11h à 12h  du 22/05 au 24/07 6\, rue de Narvik 38000 Grenoble Secteur 
 2 Gratuit sur inscription auprès de la Cité Baya au 04.76.69.45.45 ou pa
 r mail à l'adresse cite.baya@ccas-grenoble.fr\nhttps://www.agendabulle.fr
 /event/2026/4/24/2488-yoga-du-rire-seance-decouverte\nhttps://www.grenoble
 .fr/agenda/6212/972-yoga-du-rire-seance-decouverte.htm
IMAGE;VALUE=URI:https://www.agendabulle.fr/media/b591875b-af28-49f0-ae17-1
 e248f0a898d.jpg
LOCATION:Cité Baya\, 6 Rue de Narvik\, 38000 Grenoble\, Grenoble
NAME:Yoga du rire : séance découverte
END:VEVENT
END:VCALENDAR
