BEGIN:VCALENDAR
VERSION:2.0
PRODID:-//AgendaBulle//https://agendabulle.fr//
BEGIN:VEVENT
SUMMARY:Festival Photo Nature et Montagne
DTSTART;TZID=Europe/Paris:20260424T140000
DTEND;TZID=Europe/Paris:20260424T160000
DTSTAMP:20260423T031708Z
UID:a9edbd75780227e065dbcbb27351601c@agendabulle.fr
DESCRIPTION:Exposition de douze photographes régionaux pour la troisième
  édition du Festival. Stand tenu par une association de préservation de 
 la nature. Stands tenus par Atelier Photo et Matisséo.\n\nAu programme du
  festival :\n\nDes photographes illustrant des thèmes relatifs à la natu
 re et/ou montagne. Un ancrage sur le territoire du Grésivaudan Une approc
 he associant qualité des photographies et diversité des sujets pour prop
 oser aux visiteurs une exposition à la fois esthétique et variée. une r
 encontre du public avec les photographes des conférences sont prévues su
 r le thème de la nature ou de la photographie\nhttp://www.agendabulle.fr/
 event/2026/4/24/2467-festival-photo-nature-et-montagne\nhttps://www.grenob
 le-tourisme.com/fr/decouvrir/evenements/agenda/detail/festival-photo-natur
 e-et-montagne-7660248/
IMAGE;VALUE=URI:http://www.agendabulle.fr/media/89332ae2-2224-475f-801c-62
 b45fefa9b6.jpg
LOCATION:Maison des Arts\, Chemin de la Laurelle\, Montbonnot-Saint-Martin
NAME:Festival Photo Nature et Montagne
END:VEVENT
END:VCALENDAR
