BEGIN:VCALENDAR
VERSION:2.0
PRODID:-//AgendaBulle//https://agendabulle.fr//
BEGIN:VEVENT
SUMMARY:Ciné-débat : L'Histoire de Souleymane (48h haletantes dans la vi
 e d'un demandeur d'asile)
DTSTART;TZID=Europe/Paris:20260424T180000
DTEND;TZID=Europe/Paris:20260424T200000
DTSTAMP:20260422T224447Z
UID:fd43c1daf1c05bf6bae269802b7fd1e4@agendabulle.fr
DESCRIPTION:Projection du film "l’Histoire de Souleymane" de Boris Lojki
 ne. Ce film met en scène les violences administratives mais aussi quotidi
 ennes auxquelles font face les demandeurs-ses d’asiles en France mais au
 ssi partout où iels cherchent refuge.\n\nSynopsis : Tandis qu’il pédal
 e dans les rues de Paris pour livrer des repas\, Souleymane répète son h
 istoire. Dans deux jours\, il doit passer son entretien de demande d’asi
 le\, le sésame pour obtenir des papiers. Mais Souleymane n’est pas prê
 t.\n\nUn temps de discussion avec des collectifs grenoblois (l'antenne gre
 nobloise de SOS méditerranée et RUSF 38) sera proposé mais si vous souh
 aitez rester pour la projection uniquement c'est vous qui voyez !\n\nÀ 18
 h\n\nÀ la Chaufferie 98 rue Léon Jouhaux Grenoble\nhttp://www.agendabull
 e.fr/event/2026/4/24/2466-cine-debat-lhistoire-de-souleymane-48h-haletante
 s-dans-la-vie-dun-demandeur-dasile\nhttps://www.le-tamis.info/evenement/ci
 ne-debat-lhistoire-de-souleymane-48h-haletant-1
LOCATION:La Chaufferie\, 98 Rue Léon Jouhaux\, Grenoble
NAME:Ciné-débat : L'Histoire de Souleymane (48h haletantes dans la vie d
 'un demandeur d'asile)
END:VEVENT
END:VCALENDAR
