BEGIN:VCALENDAR
VERSION:2.0
PRODID:-//AgendaBulle//https://agendabulle.fr//
BEGIN:VEVENT
SUMMARY:Des sciences à lire — Un journal intime inédit pour redécouvr
 ir le quotidien sous l’Occupation
DTSTART;TZID=Europe/Paris:20260424T180000
DTEND;TZID=Europe/Paris:20260424T200000
DTSTAMP:20260423T031709Z
UID:27e4c68ba0968f8307335667c8f94a5f@agendabulle.fr
DESCRIPTION:Venez découvrir avec Marie Mianowski\, le journal intime écr
 it sous l'Occupation par Léonie Villard\, une femme au parcours exception
 nel !\n\nSemaine après semaine\, écoutant attentivement la BBC\, Léonie
  Villard* rend compte sur un ton souvent non dépourvu d’humour\, de la 
 vie quotidienne sous l’Occupation : les pénuries\, les inquiétudes\, l
 es rumeurs\, mais aussi l’amitié et les réseaux de solidarité qui l
 ’entourent. Découvert\, traduit et annoté par Marie Mianowski\, ce té
 moignage exceptionnel permet aujourd’hui de faire entendre une voix sing
 ulière de l’histoire lyonnaise.\n\nÀ l’occasion de cette rencontre\,
  Marie Mianowski\, professeure de littératures anglophones à l'Universit
 é Grenoble Alpes\, reviendra sur la découverte du journal et son contenu
 . Une plongée éclairante dans le quotidien d’une ville en guerre. Anim
 ée par Natacha Rimasson-Fertin\, maître de conférences en allemand à l
 'Université Grenoble Alpes et co-directrice de la collection “Paroles d
 ’ailleurs” d'UGA Éditions\, la conférence sera suivie d'un temps d'
 échange avec le public puis d'une séance de dédicaces.\n\nEntrée libre
  dans la limite des places disponibles. À noter : la salle de conférence
  et d'exposition où se déroulera la rencontre est située au dernier ét
 age de la librairie Arthaud. Elle n'est pas accessible aux personnes à mo
 bilité réduite.\n\n*Qui est Léonie Villard (1878-1970) ? Angliciste de 
 formation et professeure d’anglais\, Léonie Villard a été titulaire d
 e la chaire de littérature anglaise et américaine à l’université de 
 Lyon à partir de 1922. Autrice de nombreux ouvrages\, spécialiste de Jan
 e Austen\, Léonie Villard a eu un parcours universitaire remarquable pour
  une femme de son époque.\nhttp://www.agendabulle.fr/event/2026/4/24/2433
 -des-sciences-a-lire-un-journal-intime-inedit-pour-redecouvrir-le-quotidie
 n-sous-loccupation\nhttps://www.grenoble-tourisme.com/fr/decouvrir/eveneme
 nts/agenda/detail/des-sciences-a-lire-un-journal-intime-inedit-pour-redeco
 uvrir-le-quotidien-sous-loccupation-7746249/
IMAGE;VALUE=URI:http://www.agendabulle.fr/media/651503a7-b122-46b1-b45b-0f
 9f922d87cf.jpg
LOCATION:Librairie Arthaud\, 23\, Grande Rue 38000 Grenoble\, Grenoble
NAME:Des sciences à lire — Un journal intime inédit pour redécouvrir 
 le quotidien sous l’Occupation
END:VEVENT
END:VCALENDAR
