BEGIN:VCALENDAR
VERSION:2.0
PRODID:-//AgendaBulle//https://agendabulle.fr//
BEGIN:VEVENT
SUMMARY:La Fontaine\, Poète Rebelle
DTSTART;TZID=Europe/Paris:20260424T203000
DTEND;TZID=Europe/Paris:20260424T223000
DTSTAMP:20260422T223653Z
UID:fe2ef38670a7438abf3f42cc4d5fc59b@agendabulle.fr
DESCRIPTION:La dimension politique du poète sous le règne de Louis XIV L
 es Fables ne sont pas seulement un merveilleux bestiaire\, elles nous plon
 gent aussi dans le siècle de Louis XIV :\n\nl'amitié avec Nicolas Fouque
 t (les jardins de Vaux-le Vicomte\, Vatel !) pousse La Fontaine loin de la
  cour du « Roi Soleil » où il n'est pas bienvenu... Que va-t-il faire ?
  Que peut-il choisir ? Avec Cécile Gross (Récit historique et poétique 
 ) et Eveline Causse (Fables en diction baroque et violoncelle).\n\nAu Caf
 é des Arts\, la culture est ce par quoi nous devenons plus humains : il e
 st question d'être et non d'avoir\, de silence et d'écoute\, du sens du 
 beau\, de la richesse des échanges humains\, de donner et de recevoir\, d
 'être solidaire. Le Café des Arts veut être une caisse de résonance cu
 lturelle pour toute personne\, amateur ou professionnel\, qui ose sa singu
 larité dans un acte public et artistique\, dans lequel engagement humain\
 , qualité relationnelle et qualité artistique sont indissociables.\nhttp
 ://www.agendabulle.fr/event/2026/4/24/2432-la-fontaine-poete-rebelle\nhttp
 s://www.grenoble-tourisme.com/fr/decouvrir/evenements/agenda/detail/la-fon
 taine-poete-rebelle-7726237/
IMAGE;VALUE=URI:http://www.agendabulle.fr/media/bcbabe6b-c32d-4aa5-8a4e-bb
 d402dcb974.jpg
LOCATION:Le Café des Arts\, 36 Rue Saint Laurent 38000 Grenoble\, Grenobl
 e
NAME:La Fontaine\, Poète Rebelle
END:VEVENT
END:VCALENDAR
