BEGIN:VCALENDAR
VERSION:2.0
PRODID:-//AgendaBulle//https://agendabulle.fr//
BEGIN:VEVENT
SUMMARY:Alborosie + Shengen Clan
DTSTART;TZID=Europe/Paris:20260424T200000
DTEND;TZID=Europe/Paris:20260424T220000
DTSTAMP:20260422T223652Z
UID:865456b2b39c5944d40a75a26b482c7f@agendabulle.fr
DESCRIPTION:Alborosie + Shengen Clan en concert à La Belle le 24 avril 20
 26 !\n\nNé en Sicile\, installé en Jamaïque depuis 20 ans\, Alborosie b
 ouscule le reggae roots depuis 1993 avec des hymnes comme "Kingston Town".
 \n\nAu fil des années\, il a pris soin de s'entourer de musiciens d'excep
 tion\, qui forment aujourd'hui le Shengen Clan\, avec qui il défend un re
 ggae authentique.\nhttp://www.agendabulle.fr/event/2026/4/24/2430-alborosi
 e-shengen-clan\nhttps://www.grenoble-tourisme.com/fr/decouvrir/evenements/
 agenda/detail/alborosie-shengen-clan-7523366/
IMAGE;VALUE=URI:http://www.agendabulle.fr/media/892cb159-8f1f-4a26-864d-b5
 7024c1414d.jpg
LOCATION:La belle electrique\, 12 esplanade Andry Farcy\, Grenoble
NAME:Alborosie + Shengen Clan
END:VEVENT
END:VCALENDAR
