BEGIN:VCALENDAR
VERSION:2.0
PRODID:-//AgendaBulle//https://agendabulle.fr//
BEGIN:VEVENT
SUMMARY:48H-Rencontres polyphoniques
DTSTART;TZID=Europe/Paris:20260424T150000
DTEND;TZID=Europe/Paris:20260424T180000
DTSTAMP:20260422T220910Z
UID:95d8336478dc8b10604e5449a1272539@agendabulle.fr
DESCRIPTION:Co-création d’un livre de recettes « saines » commentées
  de la manière dont elles émergent d’une pratique de transmission des 
 savoirs dans les tiers-lieux nourriciers Le lien entre alimentation et san
 té est au coeur des préoccupation contemporaine. Qui a accès à une ali
 mentation saine ? Qu’est-ce qu’une alimentation favorable à la santé
  ? Les tiers-lieux se préoccupent de plus en plus de ces questions-là\, 
 et travaillent à diffuser des savoirs liant santé et alimentation.\n\nCe
 s rencontres polyphoniques visent à interroger la place de cette transmis
 sion des savoirs dans les tiers-lieux\, en créant collectivement un livre
  de recettes à partir des connaissances construites dans les tiers-lieux.
 \n\nGratuit sans inscription\nhttp://www.agendabulle.fr/event/2026/4/24/23
 84-48h-rencontres-polyphoniques\nhttps://www.facebook.com/events/220025557
 7463153/
IMAGE;VALUE=URI:http://www.agendabulle.fr/media/1388856a-e2cd-4ce8-9a94-e0
 41aef32d46.jpg
LOCATION:Le Bar Radis\, 15 rue Gustave Flaubert\, grenoble
NAME:48H-Rencontres polyphoniques
END:VEVENT
END:VCALENDAR
