BEGIN:VCALENDAR
VERSION:2.0
PRODID:-//AgendaBulle//https://agendabulle.fr//
BEGIN:VEVENT
SUMMARY:Ateliers Santé / bien-être
DTSTART;TZID=Europe/Paris:20260424T143000
DTEND;TZID=Europe/Paris:20260424T160000
DTSTAMP:20260422T220910Z
UID:2807650bb1e8c76d8f83764c76818f14@agendabulle.fr
DESCRIPTION:Un vendredi par mois\, un atelier dédié aux personnes en sit
 uation de handicap ou affection longue durée et/ou leur aidants. Venez cu
 isiner\, jardiner et participer à des ateliers pour prendre soin de votre
  santé et votre bien-être. Les animateur-rices du Bar Radis et nos parte
 naires vous ont concocté un programme sur mesure\, pour repartir avec des
  astuces cuisine\, jardin et des exercices pour se détendre et exprimer s
 es émotions. \n\nCe vendredi 24 avril\, Venez partager un atelier autour 
 du théâtre\, formidable outil pour exprimer ses émotions\, et renforcer
  l’estime de soi!\nGratuit sans inscription\nhttp://www.agendabulle.fr/e
 vent/2026/4/24/2383-ateliers-sante-bien-etre\nhttps://www.facebook.com/eve
 nts/1910943359783931/
IMAGE;VALUE=URI:http://www.agendabulle.fr/media/1f1ed5e6-99a3-41e3-9a7c-87
 3c91a677ee.jpg
LOCATION:Le Bar Radis\, 15 rue Gustave Flaubert\, grenoble
NAME:Ateliers Santé / bien-être
END:VEVENT
END:VCALENDAR
