BEGIN:VCALENDAR
VERSION:2.0
PRODID:-//AgendaBulle//https://agendabulle.fr//
BEGIN:VEVENT
SUMMARY:Les 48H de l’agriculture urbaine
DTSTART;TZID=Europe/Paris:20260424T140000
DTEND;TZID=Europe/Paris:20260426T180000
DTSTAMP:20260422T220910Z
UID:1c4be819940dca177ee7ca39dbe5eab8@agendabulle.fr
DESCRIPTION:Les 48H de l’agriculture urbaine sont un festival national o
 rganisé par l’AFAUP et déployé simultanément dans 32 villes françai
 ses. Pendant un week-end\, il invite à célébrer\, expérimenter et imag
 iner ensemble les espaces nourriciers d’aujourd’hui et de demain. \n\n
 À Grenoble\, le festival est coordonné par Cultivons! et fédère les ac
 teur·ice·s locaux·ales de l’agriculture urbaine à travers des atelie
 rs\, parcours urbains\, visites et temps festifs. C’est l’opportunité
  pour le public de découvrir\, de manière ludique\, les initiatives du t
 erritoire et de mieux comprendre les enjeux liés à l’alimentation\, à
  la ville et à la transition écologique.\n\nPour plus d’informations s
 ur le programme de l’événement\, rendez-vous sur le site: https://www.
 les48h.com/villes/grenoble/\nhttp://www.agendabulle.fr/event/2026/4/24/238
 2-les-48h-de-lagriculture-urbaine\nhttps://www.facebook.com/events/8804665
 14987828/
IMAGE;VALUE=URI:http://www.agendabulle.fr/media/926c44d5-2245-49c6-97b8-0a
 2c6331f501.jpg
LOCATION:Le Bar Radis\, 15 rue Gustave Flaubert\, grenoble
NAME:Les 48H de l’agriculture urbaine
END:VEVENT
END:VCALENDAR
