BEGIN:VCALENDAR
VERSION:2.0
PRODID:-//AgendaBulle//https://agendabulle.fr//
BEGIN:VEVENT
SUMMARY:S’exprimer avec bienveillance et authenticité - Conférence
DTSTART;TZID=Europe/Paris:20260424T193000
DTEND;TZID=Europe/Paris:20260424T213000
DTSTAMP:20260421T133322Z
UID:11610604aaca6a5b60413a2f62150165@agendabulle.fr
DESCRIPTION:S’exprimer avec bienveillance et authenticité -\nDire ce qu
 e l’on pense sans blesser.\nExprimer ses besoins sans culpabiliser.\nÊt
 re soi-même… tout en respectant l’autre.\nFacile en théorie — mais
  dans la réalité\, combien de fois gardons-nous pour nous ce que nous re
 ssentons ?\nOu\, à l’inverse\, exprimons-nous maladroitement\, au risqu
 e de créer des tensions ?\n\nLe vendredi 24 avril 2026 à 19h30\, je vous
  invite à une conférence inspirante pour apprendre à communiquer autrem
 ent :\n« S’exprimer avec bienveillance et authenticité »\n\nUne soir
 ée pour :\n\nOser dire ce qui est important pour vous\nTrouver le juste 
 équilibre entre sincérité et respect\nMieux comprendre vos mécanismes 
 de communication\nDévelopper des échanges plus apaisés\, plus vrais et 
 plus constructifs\nParce qu’une communication authentique ne consiste pa
 s à tout dire…\nmais à dire les bonnes choses\, de la bonne manière.\
 n\n📍 La Bulle de Bonheur – Grenoble\n📅 Vendredi 24 avril 2026 à 1
 9h30\n🎟️ Infos & réservations : https://www.sebastienengrand.fr/all_
 r%C3%A9servations/sexprimer-avec-bienveillance-et-authenticite/\n\nUne soi
 rée pour vous aider à vous exprimer avec plus de clarté\, de justesse
 … et de liberté.\nhttp://www.agendabulle.fr/event/2026/4/24/2362-sexpri
 mer-avec-bienveillance-et-authenticite-conference\nhttps://www.facebook.co
 m/events/1194372659293146/
IMAGE;VALUE=URI:http://www.agendabulle.fr/media/f7c5e557-8b06-4815-9eb5-85
 bb2c4b8afc.jpg
LOCATION:La Bulle de Bonheur\, Rue Jacques Thibaud\, Grenoble
NAME:S’exprimer avec bienveillance et authenticité - Conférence
END:VEVENT
END:VCALENDAR
