BEGIN:VCALENDAR
VERSION:2.0
PRODID:-//AgendaBulle//https://agendabulle.fr//
BEGIN:VEVENT
SUMMARY:La matinale décoloniale
DTSTART;TZID=Europe/Paris:20260424T110000
DTEND;TZID=Europe/Paris:20260424T130000
DTSTAMP:20260420T131838Z
UID:95075db3f5b1c19b857ca7cc5c04266f@agendabulle.fr
DESCRIPTION:En direct sur radio campus grenoble 90.8 FM\, un nouvel épiso
 de de la matinale décoloniale.\nhttp://www.agendabulle.fr/event/2026/4/24
 /2338-la-matinale-decoloniale\nhttps://www.le-tamis.info/evenement/la-mati
 nale-decoloniale
LOCATION:Rue Bayard\, Rue Bayard Grenoble\, Grenoble
NAME:La matinale décoloniale
END:VEVENT
END:VCALENDAR
