BEGIN:VCALENDAR
VERSION:2.0
PRODID:-//AgendaBulle//https://agendabulle.fr//
BEGIN:VEVENT
SUMMARY:Fresque du Consentement
DTSTART;TZID=Europe/Paris:20260424T140000
DTEND;TZID=Europe/Paris:20260424T160000
DTSTAMP:20260420T131837Z
UID:0b64c047a13055442847bc3bfa02430f@agendabulle.fr
DESCRIPTION:La Fresque du Consentement est un atelier collaboratif pour pa
 rler de culture du consentement. L’intention est de créer un espace d
 ’échange sur le consentement à partir de vécus personnels\, de transm
 ettre du vocabulaire et le cadre légal lié au consentement et de réflé
 chir collectivement à comment créer une culture du consentement.\n\nLa F
 resque du Consentement est un atelier d’intelligence collective de 3 heu
 res. A l’aide de plusieurs sets de cartes\, les participant·es échange
 nt autour des fondements d’un consentement valide puis découvrent ce qu
 i peut influencer leur capacité à consentir et les implications légales
 . Pour finir ils et elles sont invité.e.s à imaginer à quoi ressemblera
 it une culture du consentement.\n\nCet atelier est sur inscription (12 per
 sonnes max) :\n\nhttps://www.helloasso.com/associations/fresque-du-consent
 ement/evenements/fresque-du-consentement-a-grenoble\n\nInfos :\n\nL'atelie
 r aura lieu le vendredi 24 avril 2026 de 14h à 17h. Le lieu est encore à
  définir\, un mail vous sera envoyé à la suite de votre inscription. Si
  vous n'avez pas de nouvelles\, vous pouvez nous écrire à contact@fresqu
 e-du-consentement.fr\nhttp://www.agendabulle.fr/event/2026/4/24/2320-fresq
 ue-du-consentement\nhttps://www.le-tamis.info/evenement/fresque-du-consent
 ement-2
LOCATION:Rue Bayard\, Rue Bayard Grenoble\, Grenoble
NAME:Fresque du Consentement
END:VEVENT
END:VCALENDAR
