BEGIN:VCALENDAR
VERSION:2.0
PRODID:-//AgendaBulle//https://agendabulle.fr//
BEGIN:VEVENT
SUMMARY:🎬 Ciné-débat: "L'Afrique\, les OGM et Bill Gates"
DTSTART;TZID=Europe/Paris:20260424T183000
DTEND;TZID=Europe/Paris:20260424T203000
DTSTAMP:20260420T131837Z
UID:5be0f4812609debbf9d34e56e2457998@agendabulle.fr
DESCRIPTION:Description Projection film militant suivi d'un débat. Résum
 é du film: "Dans la campagne ougandaise\, une plantation de maïs OGM\, f
 inancée par le fils du milliardaire Warren Buffett\, la Fondation Melinda
  et Bill Gates et la société Monsanto\, propriété du géant de l’agr
 ochimie Bayer\, est tenue à l’abri des curieux par un dispositif de hau
 te surveillance. Ces dernières années\, les cultures de plantes généti
 quement modifiées se développent en toute discrétion en Afrique. Limit
 ées voire interdites en Europe\, selon le principe de précaution qui pr
 évaut\, elles y représentent déjà 3 % des surfaces cultivées\, soit 4
  millions d’hectares – contre un peu plus de 60 millions aujourd’hui
  en Amérique latine. À Bobo-Dioulasso\, deuxième ville du Burkina Faso\
 , c’est par un décret gouvernemental que le consortium international de
  recherche Target Malaria a été autorisé à lâcher des moustiques feme
 lles génétiquement modifiés. Pour éradiquer ces deux fléaux du contin
 ent africain que sont la famine et le paludisme\, des milliardaires\, au p
 remier rang desquels le fondateur de Microsoft Bill Gates\, figurent\, sou
 s couvert de philanthropie\, parmi les grands argentiers de ces expérimen
 tations. Menée pendant trois ans\, cette enquête révèle comment la fon
 dation de Bill Gates est devenue le principal financeur des expérimentati
 ons de génie génétique conduites en Afrique. Alimentée en partie par l
 es dividendes de ses investissements dans les multinationales de l’agrob
 usiness comme Bayer/Monsanto\, sa fondation finance des recherches qui y s
 ont menées sans contrôle\, notamment sur les gènes du maïs et du manio
 c ainsi que sur la modification génétique des moustiques. Le documentair
 e souligne aussi le rôle trouble joué par l'Europe. Officiellement intra
 nsigeante sur les OGM\, à cause des risques potentiels pour la santé et 
 l'environnement\, l’Union européenne abonde pourtant les fonds privés 
 créés par le milliardaire américain pour développer en Afrique ce qu
 ’elle interdit sur son territoire." Plus Prix Libre Bar sur place\nhttp:
 //www.agendabulle.fr/event/2026/4/24/2317-cine-debat-lafrique-les-ogm-et-b
 ill-gates\nhttps://www.le-tamis.info/evenement/cine-debat-lafrique-les-ogm
 -et-bill-gates-1
LOCATION:La base\, 17 rue du Dauphiné\, Grenoble
NAME:🎬 Ciné-débat: "L'Afrique\, les OGM et Bill Gates"
END:VEVENT
END:VCALENDAR
