BEGIN:VCALENDAR
VERSION:2.0
PRODID:-//AgendaBulle//https://agendabulle.fr//
BEGIN:VEVENT
SUMMARY:Didon et Énée
DTSTART;TZID=Europe/Paris:20260424T200000
DTEND;TZID=Europe/Paris:20260424T220000
DTSTAMP:20260420T024737Z
UID:73f1686cdbd95c62fe067d5d48a7b5da@agendabulle.fr
DESCRIPTION:Poignante histoire d’amour\, Didon et Énée de Purcell retr
 ouve toutes ses lettres de noblesse dans cet opéra version concert\, grâ
 ce à l’inspiration du Poème harmonique\, accompagné d’une distribut
 ion exceptionnelle\, sous la houlette de Vincent Dumestre.\n\nDidon et Én
 ée se déploie selon une vaste trame musicale qui\, plus de 300 ans aprè
 s sa création\, n’a rien perdu de son éclat ni de sa puissance. Avec d
 ans le rôle de la reine éplorée Adèle Charvet\, nommée aux Victoires 
 de la musique classique 2024\, les interprètes du Poème Harmonique\, sou
 s la direction de Vincent Dumestre\, campent avec brio les personnages de 
 ce mythe antique\, et rivalisant d’ardeur et d’imagination pour un con
 cert inoubliable.\nhttp://www.agendabulle.fr/event/2026/4/24/2295-didon-et
 -enee\nhttps://www.grenoble-tourisme.com/fr/decouvrir/evenements/agenda/de
 tail/didon-et-enee-7450556/
IMAGE;VALUE=URI:http://www.agendabulle.fr/media/8cf87334-8373-421e-bc7d-95
 457ae2138a.jpg
LOCATION:MC2 Grenoble\, 4 Rue Paul Claudel\, 38100 Grenoble\, Grenoble
NAME:Didon et Énée
END:VEVENT
END:VCALENDAR
