BEGIN:VCALENDAR
VERSION:2.0
PRODID:-//AgendaBulle//https://agendabulle.fr//
BEGIN:VEVENT
SUMMARY:Du coeur à la tête: santé et évolution spirituelle
DTSTART;TZID=Europe/Paris:20260424T200000
DTEND;TZID=Europe/Paris:20260424T220000
DTSTAMP:20260420T024737Z
UID:b1da5f592472e21712dd14701c73237b@agendabulle.fr
DESCRIPTION:« Du cœur à la tête : santé et évolution spirituelle » 
 par Jocelyne Louyot\, conférencière de l’U.R.C.I. section Médecine\n\
 nParler de la tête\, c’est parler du cerveau et du mental. Les scientif
 iques continuent leurs recherches sur le cerveau\, lui conférant le rôle
  essentiel dans la plupart des fonctions physiologiques\, intellectuelles 
 et émotionnelles. Le cerveau serait ainsi le chef d’orchestre de notre 
 corps. Or depuis quelques années\, les neuroscientifiques ont découvert 
 que le cœur possède son propre système nerveux\, qu’il entretient des
  relations constantes avec le cerveau\, lui envoyant même plus de message
 s que le cerveau ne lui envoie.\n\nSon champ électromagnétique est très
  puissant. Voilà qui remet en cause nos conceptions sur le cœur : du sim
 ple organe musculaire dont la fonction physiologique est de pomper le sang
  pour nourrir nos cellules\, il est en réalité un organe physique doté 
 d’une force rythmique et aussi le socle de gestion de l’amour\, de nos
  pensées et de nos sentiments.\nhttp://www.agendabulle.fr/event/2026/4/24
 /2293-du-coeur-a-la-tete-sante-et-evolution-spirituelle\nhttps://www.greno
 ble-tourisme.com/fr/decouvrir/evenements/agenda/detail/du-coeur-a-la-tete-
 sante-et-evolution-spirituelle-7775932/
IMAGE;VALUE=URI:http://www.agendabulle.fr/media/e0630e48-dcec-4301-ad4e-4b
 43e78d4df8.jpg
LOCATION:Hôtel Europole\, 29 Rue Pierre Semard\, Grenoble
NAME:Du coeur à la tête: santé et évolution spirituelle
END:VEVENT
END:VCALENDAR
