BEGIN:VCALENDAR
VERSION:2.0
PRODID:-//AgendaBulle//https://agendabulle.fr//
BEGIN:VEVENT
SUMMARY:Pardon !
DTSTART;TZID=Europe/Paris:20260424T200000
DTEND;TZID=Europe/Paris:20260424T220000
DTSTAMP:20260420T024736Z
UID:3606750331c0e0996ed16b231ca67610@agendabulle.fr
DESCRIPTION:"Pardon de ne pas être assez intelligente ! Habile ! Gentille
  !"\n\n« Pardon ! Pardon de ne pas être assez belle ! Pardon de ne pas 
 être assez sexy ! Pardon de ne pas être assez jeune ! Pardon de ne pas 
 être assez forte ! Pardon de ne pas être assez intelligente ! Habile ! G
 entille ! Pardon de ne pas être comme les autres ! De ne pas avoir les bo
 ns mots ! De ne pas être tout le temps souriante ! De ne pas être comme 
 vous voulez ! Pardon d'être malade de vos jugements ! Pardon d'être moi 
 ! »\nhttp://www.agendabulle.fr/event/2026/4/24/2292-pardon\nhttps://www.g
 renoble-tourisme.com/fr/decouvrir/evenements/agenda/detail/pardon-7441259/
IMAGE;VALUE=URI:http://www.agendabulle.fr/media/446ef893-1939-4b0e-a882-49
 c69f193da3.jpg
LOCATION:La Faïencerie\, Chemin Saint-Jean\, La Tronche
NAME:Pardon !
END:VEVENT
END:VCALENDAR
