BEGIN:VCALENDAR
VERSION:2.0
PRODID:-//AgendaBulle//https://agendabulle.fr//
BEGIN:VEVENT
SUMMARY:Jeune Choeur de l'Oise
DTSTART;TZID=Europe/Paris:20260424T200000
DTEND;TZID=Europe/Paris:20260424T220000
DTSTAMP:20260420T024736Z
UID:e2568ea116449be3f8f913d745488938@agendabulle.fr
DESCRIPTION:Dans le cadre de sa tournée d'avril\, le Jeune Choeur de l'Oi
 se est ravi de revenir en Isère pour 1h30 de musique éclectique. Les 18 
 chanteuses de 15 à 18 ans se produisent chaque année sur les routes de F
 rance et d'Europe.\n\néglise Saint-Pierre du Seyssinet - Pariset\nhttp://
 www.agendabulle.fr/event/2026/4/24/2291-jeune-choeur-de-loise\nhttps://www
 .grenoble-tourisme.com/fr/decouvrir/evenements/agenda/detail/jeune-choeur-
 de-l-oise-7713145/
IMAGE;VALUE=URI:http://www.agendabulle.fr/media/7242e6f8-acb0-4fcb-8fc3-ff
 3effbf210b.jpg
LOCATION:église Saint-Pierre du Seyssinet - Pariset\, Rue de l'Église\, 
 38170 Seyssinet-Pariset\, Seyssinet-Pariset
NAME:Jeune Choeur de l'Oise
END:VEVENT
END:VCALENDAR
