BEGIN:VCALENDAR
VERSION:2.0
PRODID:-//AgendaBulle//https://agendabulle.fr//
BEGIN:VEVENT
SUMMARY:Troc de plants
DTSTART;TZID=Europe/Paris:20260424T163000
DTEND;TZID=Europe/Paris:20260424T183000
DTSTAMP:20260420T024736Z
UID:f02512f718e54124db1fc5d37d149256@agendabulle.fr
DESCRIPTION:Venez échanger\, donner ou récupérer des plantes et rencont
 rer les habitants qui jardinent à Seyssinet-Pariset !\n\nGratuit\, ouvert
  à tous sans inscription !\nhttp://www.agendabulle.fr/event/2026/4/24/228
 9-troc-de-plants\nhttps://www.grenoble-tourisme.com/fr/decouvrir/evenement
 s/agenda/detail/troc-de-plants-7698163/
IMAGE;VALUE=URI:http://www.agendabulle.fr/media/cc677b07-c56a-4da9-b022-34
 5a6133d45c.jpg
LOCATION:Square Vercors\, 9 Av. Aristide Berges\, 38170 Seyssinet-Pariset\
 , Seyssinet-Pariset
NAME:Troc de plants
END:VEVENT
END:VCALENDAR
