BEGIN:VCALENDAR
VERSION:2.0
PRODID:-//AgendaBulle//https://agendabulle.fr//
BEGIN:VEVENT
SUMMARY:Alborosie & Shengen Clan + Devi Reed à La Belle Électrique
DTSTART;TZID=Europe/Paris:20260424T200000
DTEND;TZID=Europe/Paris:20260424T220000
DTSTAMP:20260420T023452Z
UID:d46684c216863c2b7d130513e6ada1a0@agendabulle.fr
DESCRIPTION:• 𝗔𝗟𝗕𝗢𝗥𝗢𝗦𝗜𝗘\n\nAvec plus de 100 m
 illions de streams\, et plus de 10 millions d'auditeurs mensuels toutes pl
 ateformes confondues en 2024\, Alborosie est sans aucun doute la référen
 ce reggae internationale ! Deux ans après la sortie de son album Destiny\
 , Pupa Albo revient cette année avec un nouvel opus.\n\nAlborosie c’est
  aussi plus de 1000 concerts à travers le globe qui ont construit sa soli
 de réputation. Après une grosse tournée mondiale en 2024\, il est de re
 tour sur la route pour accompagner la sortie de son nouvel album et pour o
 ffrir à ses fans des moments live exceptionnels où les nouveaux singles 
 côtoieront les morceaux incontournables de son vaste catalogue musical.\n
 \n🔊 https://youtu.be/fisbNNnKURY\n\n--------------------------\n• 
 𝗗𝗘𝗩𝗜 𝗥𝗘𝗘𝗗\n\nSur scène\, Devi Reed distille une 
 énergie incroyable\, accompagné par ses trois acolytes : le multi-instru
 mentiste « Kino B»\, le batteur « Cydot » et le bassiste « Pita ». 
 À eux quatre ils repoussent un peu plus loin encore les limites du reggae
 \, qu’ils revisitent et modernisent avec leurs propres ingrédients. On 
 retrouve une base rythmique solide « hip hop »\, agrémentée de mélodi
 es aussi originales que colorées\, venant souligner un chant résolument 
 « Ragga ». Coté écriture\, Devi Reed aborde des sujets du quotidien ou
  bien universels\, des relations humaines à l’écologie en passant par 
 la spiritualité\; véhiculant ainsi des valeurs positives et engagées. P
 our ce faire\, il alterne le français et l’anglais avec une aisance rar
 e. Une recette unique qui a déjà conquis le public.\n\n🔊 https://www.
 youtube.com/watch?v=g1MkmXcf2bA\n\n--------------------------\n\n🔸 En s
 avoir plus : https://www.la-belle-electrique.com/fr/agenda/alborosie\n\n
 🎫 Billetterie : https://billetterie.la-belle-electrique.com/agenda/649-
 Alborosie-Shengen-Clan?session=649\n\n© DR\n\n▬▬▬▬ LE LIEU DE VIE
  EN BREF ▬▬▬▬\n\n• 🕑 Du mercredi au samedi de 10h à 01h\, ma
 is également les autres jours à partir de 18h si un concert est programm
 é.\n\n• 📅 La programmation du bar ce sont : des concerts\, des DJs s
 ets\, des expositions...!\n\n• 🍔 🍷 En soirée pour vos apéros\, l
 'équipe du bar vous propose sa carte de bières locales et cocktails ains
 i que des appetizers à déguster sur place. Profitez-en !\n\n▬▬▬▬
 ▬\n\n✓ OUVERTURE des portes à 19h\, début du concert à 20h.\n✓ TR
 ANSPORTS EN COMMUN : tramway A ou bus C5 arrêt “Berriat - Le Magasin”
 . / Train : Depuis la Gare de Grenoble\, tramway A en direction de “Font
 aine La Poya”.\n✓ VÉLO : 300 arceaux disponibles.\n✓ VOITURE : Park
 ing relais Vallier Catane ➣ https://bit.ly/3eM8vff / Square des Fusillé
 s / Proche rue Ampère\n✓ Questions billetterie : accueil.billetterie@la
 -belle-electrique.com\n✓ Horaires accueil billetterie : du mercredi au v
 endredi de 16h à 18h.\nhttp://www.agendabulle.fr/event/2026/4/24/2148-alb
 orosie-shengen-clan-devi-reed-a-la-belle-electrique\nhttps://www.facebook.
 com/events/1964110501035904/
IMAGE;VALUE=URI:http://www.agendabulle.fr/media/044ffb94-1945-48bb-89fb-f6
 55280fefd3.jpg
LOCATION:La belle electrique\, 12 esplanade Andry Farcy\, Grenoble
NAME:Alborosie & Shengen Clan + Devi Reed à La Belle Électrique
END:VEVENT
END:VCALENDAR
