BEGIN:VCALENDAR
VERSION:2.0
PRODID:-//AgendaBulle//https://agendabulle.fr//
BEGIN:VEVENT
SUMMARY:Le Marché Flaubert fête le printemps !
DTSTART;TZID=Europe/Paris:20260424T160000
DTEND;TZID=Europe/Paris:20260424T220000
DTSTAMP:20260420T022736Z
UID:66393082881faa728e5b79e085dbe1dd@agendabulle.fr
DESCRIPTION:🍀📆 Le Marché Flaubert local & solidaire\, fête le prin
 temps le vendredi 24 avril (16h-22h) !\n\nAU PROGRAMME :\n\n🍅 16h-19h30
  - Une dizaine de producteur·ice·s locaux de légumes\, fromage\, œufs\
 , noix\, pain\, bière\, boissons\, miel...\n\n💬 16h-20h - Des stands d
 es acteurs du quartier\n\n✨ 16h-21h - Des stands de créateur.ice.s loca
 ux\n>Inscription via production@labifurk.fr\n\n🍺 16h-23h - Le Bifurk-ca
 fé sera aussi ouvert\, le café associatif de la Bifurk\, avec son offre 
 de boissons et de petite restauration !\n\n🎶 19h - Concert\n\n---------
 -------------------------------------------------\n\n👉 Au sein de l'Eco
 quartier Flaubert\, Cultivons! et La Bifurk\, deux associations du quartie
 r\, relèvent le défi de monter un marché alimentaire\, qui répond aux 
 besoins des habitant·e·s et leur permettent d’avoir accès à une alim
 entation de qualité.\n\nLe cadre de ce marché\, que nous voulons local e
 t solidaire\, se définit par trois axes :\n> construire le marché avec l
 es parties prenantes du quartier\n> proposer des produits locaux et de qua
 lité\n> proposer une tarification solidaire\n\n📆 le Marché Flaubert e
 st ouvert tous les vendredis\, de 16h30 à 19h30\n\n📍 sur les extérieu
 rs de la Bifurk\, 2 rue Gustave Flaubert 38100 Grenoble\nhttp://www.agenda
 bulle.fr/event/2026/4/24/2138-le-marche-flaubert-fete-le-printemps\nhttps:
 //www.facebook.com/events/979744111391409/
IMAGE;VALUE=URI:http://www.agendabulle.fr/media/a7eb650f-7db7-4e6a-b5a8-c1
 bd951ac655.jpg
LOCATION:La Bifurk\, 2 rue Gustave Flaubert\, Grenoble\, France\, 38100\, 
 Grenoble
NAME:Le Marché Flaubert fête le printemps !
END:VEVENT
END:VCALENDAR
