BEGIN:VCALENDAR
VERSION:2.0
PRODID:-//AgendaBulle//https://agendabulle.fr//
BEGIN:VEVENT
SUMMARY:Meylomanies "À la saison des abricots…"
DTSTART;TZID=Europe/Paris:20260424T200000
DTEND;TZID=Europe/Paris:20260424T220000
DTSTAMP:20260420T025203Z
UID:b46706880fd370d4f1f0196921f32424@agendabulle.fr
DESCRIPTION:Concert proposé dans le cadre du Printemps des pensées 2026\
 n\nUn quatuor à géométrie variable\, tantôt consort de violes de gambe
 \, tantôt voix et bandonéon ou encore voix\, violes de gambe et bandoné
 on... autant de manières de mettre en beauté la musique et les mots.\n\n
 De tout siècle\, les notes ont cherché à toucher l’âme et les mots o
 nt emprunté des voies pour faire entendre les maux du coeur. Ecoutez ! Vo
 us sentez ? C’est une soirée pleine de douceur et de délicatesse\, à 
 l’image de la bise printanière qui effleure les fleurs naissantes des a
 bricotiers. Sur une variété de répertoires baroque et contemporain.\n\n
 Avec\n\nAgustina Merono : ténor et basse de violeAdèle Hubaux : voix\, d
 essus et basse de violeMarine Ruhier Balestrieri : BandonéonNathalie Mart
 in Centonze : basse de viole\n\n"En poésie\, toute idée\, toute pensée\
 , doit passer par le sens\; Et elle s'arme de fragilité humaine pour rés
 ister à la violence du monde" Mahmoud Darwich\nhttp://www.agendabulle.fr/
 event/2026/4/24/2089-meylomanies-a-la-saison-des-abricots\nhttps://www.mey
 lan.fr/agenda/1865/41-meylomanies-a-la-saison-des-abricots.htm?ID_AGENDAPE
 RIODE=3448
IMAGE;VALUE=URI:http://www.agendabulle.fr/media/db6ee17a-0f4b-4a3c-abe1-fa
 6d7533009b.jpg
LOCATION:Maison de la musique\, 4 avenue du granier 38240 meylan\, meylan
NAME:Meylomanies "À la saison des abricots…"
END:VEVENT
END:VCALENDAR
