BEGIN:VCALENDAR
VERSION:2.0
PRODID:-//AgendaBulle//https://agendabulle.fr//
BEGIN:VEVENT
SUMMARY:Objet poétique et sonore : initiation à la création radiophoniq
 ue
DTSTART;TZID=Europe/Paris:20260424T170000
DTEND;TZID=Europe/Paris:20260424T190000
DTSTAMP:20260418T192308Z
UID:9e8d011627dccd4ec39e66239c959250@agendabulle.fr
DESCRIPTION:Atelier artistique proposé dans le cadre du Printemps des pen
 sées 2026\, animé par Olivier Longre.\n\nMulti-instrumentiste lyonnais e
 t collaborateur régulier de Radio France\, Olivier Longre vous propose un
 e initiation à la création radiophonique.\n\nLes participants sont invit
 és à déployer leur imaginaire à travers l’écriture de Haïkus et la
  création d’un univers sonore mêlant voix\, musique et bruitages.\nhtt
 p://www.agendabulle.fr/event/2026/4/24/2087-objet-poetique-et-sonore-initi
 ation-a-la-creation-radiophonique\nhttps://www.meylan.fr/agenda/1965/41-ob
 jet-poetique-et-sonore-initiation-a-la-creation-radiophonique.htm?ID_AGEND
 APERIODE=3650
IMAGE;VALUE=URI:http://www.agendabulle.fr/media/ee91d515-bd78-4f02-903c-bd
 c1c1369fad.jpg
LOCATION:Bibliothèque Simone Lagrange / Mi-Plaine\, 14 Rue des Aiguinards
 \, 38240 Meylan\, Meylan
NAME:Objet poétique et sonore : initiation à la création radiophonique
END:VEVENT
END:VCALENDAR
