BEGIN:VCALENDAR
VERSION:2.0
PRODID:-//Agenda Bulle//https://agendabulle.fr//
BEGIN:VEVENT
SUMMARY:Un potager vivant
DTSTART;TZID=Europe/Paris:20260423T183000
DTEND;TZID=Europe/Paris:20260423T203000
DTSTAMP:20260423T233230Z
UID:8c77ffc304a12f19363a3d06db3ecbe6@agendabulle.fr
DESCRIPTION:Par Olivier Puech\, vidéaste et écrivain Il témoigne le pla
 isir de jardiner avec le vivant plutôt que contre lui\, en misant sur l'a
 ctivité biologique pour remplacer outils et traitements. Il partage 15 an
 nées de connaissances\, d'expériences\, de rencontres avec des experts e
 t de discussions avec les 500 000 abonnés que compte sa chaîne YouTube. 
 Il abordera l'eau\, la température\, l'oxygène\, le carbone\, la matièr
 e organique\, la lumière\,... Un témoignage sans dogme ni vérités\, un
  retour humble et "vivant" sur le bonheur de mettre les mains dans la terr
 e. 1 Rue Dolomieu 38000 Grenoble Secteur 2\nhttps://www.agendabulle.fr/eve
 nt/2026/4/23/2487-un-potager-vivant\nhttps://www.grenoble.fr/agenda/6124/2
 06-un-potager-vivant.htm
IMAGE;VALUE=URI:https://www.agendabulle.fr/media/ed53214a-7d97-46b0-89c3-c
 33819bdd93b.jpg
LOCATION:Muséum de Grenoble\, 1 Rue Dolomieu 38000 Grenoble\, Grenoble
NAME:Un potager vivant
END:VEVENT
END:VCALENDAR
