BEGIN:VCALENDAR
VERSION:2.0
PRODID:-//AgendaBulle//https://agendabulle.fr//
BEGIN:VEVENT
SUMMARY:Atelier de design fiction : La sobriété énergétique en 2050
DTSTART;TZID=Europe/Paris:20260423T173000
DTEND;TZID=Europe/Paris:20260423T193000
DTSTAMP:20260422T224447Z
UID:1ce414f82ef769625987d6e67ada1619@agendabulle.fr
DESCRIPTION:Dans cet atelier\, imaginez à quoi pourrait ressembler une mo
 bilité alliant bien-vivre et impact minimal\, et contribuez à imaginer l
 es futurs de la sobriété énergétique.\n\nJeudi 26 mars\, vous imaginie
 z notre rapport\, individuel et collectif\, à la consommation de biens et
  de services dans une société sobre en énergie. - Et maintenant\, quid 
 de notre mobilité ? Comment pourrait-on bien vivre tout en réduisant la 
 demande énergétique de nos déplacements\, et ainsi associer respect de 
 l'environnement et progrès social ?\n\nVous n’avez jamais participé ou
  avez raté un ou plusieurs ateliers ? Un rappel des précédents épisode
 s est prévu en introduction de chaque session\n\nAu programme : Accueil &
  quart d'heure scientifique avec Fiona Ottaviani Temps de créativité - d
 esign fiction Buffet convivial\n\nRendez-vous le jeudi 23 avril prochain 
 à 17h30 au UXLab de la MaCI pour continuer l’aventure vers une sociét
 é sobre et désirable en 2050.\n\nPour s'inscrire\, c'est ici.\nhttp://ww
 w.agendabulle.fr/event/2026/4/23/2461-atelier-de-design-fiction-la-sobriet
 e-energetique-en-2050\nhttps://www.le-tamis.info/evenement/atelier-de-desi
 gn-fiction-la-sobriete-energetique-
LOCATION:Maison de la création et de l'innovation\, 339 Av. Centrale\, 38
 400 Saint-Martin-d'Hères\, 38400 Saint-Martin-d'Hères
NAME:Atelier de design fiction : La sobriété énergétique en 2050
END:VEVENT
END:VCALENDAR
