BEGIN:VCALENDAR
VERSION:2.0
PRODID:-//AgendaBulle//https://agendabulle.fr//
BEGIN:VEVENT
SUMMARY:Rencontre avec la présidente de Mountain Wilderness autour du liv
 re "Réinventons la montagne"
DTSTART;TZID=Europe/Paris:20260423T180000
DTEND;TZID=Europe/Paris:20260423T200000
DTSTAMP:20260422T224443Z
UID:73fbe4c1ccc72fe8a42568f09c0660cc@agendabulle.fr
DESCRIPTION:Rencontre avec Fiona Mille\, présidente de Moutain Wilderness
 \, autour de son ouvrage “ Réinventons la montagne ”.\n\nLa neige se 
 fait rare sur nos montagnes\, et pourtant nous ne parvenons pas à détour
 ner notre imaginaire de cet or blanc. Preuve en est : la décision d’org
 aniser les Jeux d’hiver de 2030 dans les Alpes françaises. Un choix tot
 alement anachronique alors que s’accélère le réchauffement climatique
 .\n\nCet essai coup de poing propose de nourrir le débat sur l’avenir d
 es montagnes\, en construisant plusieurs scénarios. Les épreuves se dér
 ouleront-elles comme prévu\, au prix de destructions catastrophiques ? Se
 ront-elles annulées à la dernière minute\, face aux urgences climatique
 s\, sociales et politiques ? Ou 2030 sera-t-elle une année de festivités
  mais aussi d’engagement\, créant un élan collectif au service de la n
 écessaire transition ? Ce livre propose une utopie réaliste pour réconc
 ilier montagne sauvage et montagne à vivre.\n\nÀ 18h\n\nÀ La Correspond
 ance 30 bis avenue Marcellin Berthelot Grenoble\nhttp://www.agendabulle.fr
 /event/2026/4/23/2447-rencontre-avec-la-presidente-de-mountain-wilderness-
 autour-du-livre-reinventons-la-montagne\nhttps://www.le-tamis.info/eveneme
 nt/rencontre-avec-la-presidente-de-mountain-wildernes
LOCATION:Le Bivouak Café\, 30 bis Av. Marcelin Berthelot\, 38100 Grenoble
 \, Grenoble
NAME:Rencontre avec la présidente de Mountain Wilderness autour du livre 
 "Réinventons la montagne"
END:VEVENT
END:VCALENDAR
